BEGIN:VCALENDAR
VERSION:2.0
PRODID:-//Kansas Statewide Homeless Coalition - ECPv6.15.14//NONSGML v1.0//EN
CALSCALE:GREGORIAN
METHOD:PUBLISH
X-WR-CALNAME:Kansas Statewide Homeless Coalition
X-ORIGINAL-URL:https://kshomeless.com
X-WR-CALDESC:Events for Kansas Statewide Homeless Coalition
REFRESH-INTERVAL;VALUE=DURATION:PT1H
X-Robots-Tag:noindex
X-PUBLISHED-TTL:PT1H
BEGIN:VTIMEZONE
TZID:America/Chicago
BEGIN:DAYLIGHT
TZOFFSETFROM:-0600
TZOFFSETTO:-0500
TZNAME:CDT
DTSTART:20280312T080000
END:DAYLIGHT
BEGIN:STANDARD
TZOFFSETFROM:-0500
TZOFFSETTO:-0600
TZNAME:CST
DTSTART:20281105T070000
END:STANDARD
BEGIN:DAYLIGHT
TZOFFSETFROM:-0600
TZOFFSETTO:-0500
TZNAME:CDT
DTSTART:20290311T080000
END:DAYLIGHT
BEGIN:STANDARD
TZOFFSETFROM:-0500
TZOFFSETTO:-0600
TZNAME:CST
DTSTART:20291104T070000
END:STANDARD
BEGIN:DAYLIGHT
TZOFFSETFROM:-0600
TZOFFSETTO:-0500
TZNAME:CDT
DTSTART:20300310T080000
END:DAYLIGHT
BEGIN:STANDARD
TZOFFSETFROM:-0500
TZOFFSETTO:-0600
TZNAME:CST
DTSTART:20301103T070000
END:STANDARD
BEGIN:DAYLIGHT
TZOFFSETFROM:-0600
TZOFFSETTO:-0500
TZNAME:CDT
DTSTART:20310309T080000
END:DAYLIGHT
BEGIN:STANDARD
TZOFFSETFROM:-0500
TZOFFSETTO:-0600
TZNAME:CST
DTSTART:20311102T070000
END:STANDARD
BEGIN:DAYLIGHT
TZOFFSETFROM:-0600
TZOFFSETTO:-0500
TZNAME:CDT
DTSTART:20320314T080000
END:DAYLIGHT
BEGIN:STANDARD
TZOFFSETFROM:-0500
TZOFFSETTO:-0600
TZNAME:CST
DTSTART:20321107T070000
END:STANDARD
END:VTIMEZONE
BEGIN:VEVENT
DTSTART;TZID=America/Chicago:20291101T100000
DTEND;TZID=America/Chicago:20291101T110000
DTSTAMP:20260421T170928
CREATED:20260219T153453Z
LAST-MODIFIED:20260219T153453Z
UID:10007223-1888221600-1888225200@kshomeless.com
SUMMARY:Northeast Coordinated Entry
DESCRIPTION:Northeast CES meets the 1st and 3rd Thursdays. On the first Thursday of the month the Regional Planning meeting starts at 9:00 a.m. followed by CES at 10:00 a.m.\nThe third Thursday of the month CES begins at 9:00 a.m.\n\nZoom Link: https://kshomeless.zoom.us/j/89988253903?pwd=fJKnFt99R8xjjxeNOY5Bc57nKxY1Ed.1
URL:https://kshomeless.com/event/northeast-coordinated-entry-2-2-2-2/2029-11-01/
LOCATION:Zoom\, KS\, United States
CATEGORIES:Coordinated Entry
END:VEVENT
BEGIN:VEVENT
DTSTART;TZID=America/Chicago:20291115T090000
DTEND;TZID=America/Chicago:20291115T100000
DTSTAMP:20260421T170928
CREATED:20260121T215847Z
LAST-MODIFIED:20260219T152958Z
UID:10007836-1889427600-1889431200@kshomeless.com
SUMMARY:Northeast Coordinated Entry
DESCRIPTION:Northeast CES meets the 1st and 3rd Thursdays. On the first Thursday of the month the Regional Planning meeting starts at 9:00 a.m. followed by CES at 10:00 a.m.\nThe third Thursday of the month CES begins at 9:00 a.m.\n\nZoom Link: https://kshomeless.zoom.us/j/89988253903?pwd=fJKnFt99R8xjjxeNOY5Bc57nKxY1Ed.1
URL:https://kshomeless.com/event/northeast-coordinated-entry-6/2029-11-15/
LOCATION:Zoom\, KS\, United States
CATEGORIES:Coordinated Entry
END:VEVENT
BEGIN:VEVENT
DTSTART;TZID=America/Chicago:20291206T100000
DTEND;TZID=America/Chicago:20291206T110000
DTSTAMP:20260421T170928
CREATED:20260219T153453Z
LAST-MODIFIED:20260219T153453Z
UID:10007224-1891245600-1891249200@kshomeless.com
SUMMARY:Northeast Coordinated Entry
DESCRIPTION:Northeast CES meets the 1st and 3rd Thursdays. On the first Thursday of the month the Regional Planning meeting starts at 9:00 a.m. followed by CES at 10:00 a.m.\nThe third Thursday of the month CES begins at 9:00 a.m.\n\nZoom Link: https://kshomeless.zoom.us/j/89988253903?pwd=fJKnFt99R8xjjxeNOY5Bc57nKxY1Ed.1
URL:https://kshomeless.com/event/northeast-coordinated-entry-2-2-2-2/2029-12-06/
LOCATION:Zoom\, KS\, United States
CATEGORIES:Coordinated Entry
END:VEVENT
BEGIN:VEVENT
DTSTART;TZID=America/Chicago:20291220T090000
DTEND;TZID=America/Chicago:20291220T100000
DTSTAMP:20260421T170928
CREATED:20260121T215847Z
LAST-MODIFIED:20260219T152958Z
UID:10007837-1892451600-1892455200@kshomeless.com
SUMMARY:Northeast Coordinated Entry
DESCRIPTION:Northeast CES meets the 1st and 3rd Thursdays. On the first Thursday of the month the Regional Planning meeting starts at 9:00 a.m. followed by CES at 10:00 a.m.\nThe third Thursday of the month CES begins at 9:00 a.m.\n\nZoom Link: https://kshomeless.zoom.us/j/89988253903?pwd=fJKnFt99R8xjjxeNOY5Bc57nKxY1Ed.1
URL:https://kshomeless.com/event/northeast-coordinated-entry-6/2029-12-20/
LOCATION:Zoom\, KS\, United States
CATEGORIES:Coordinated Entry
END:VEVENT
BEGIN:VEVENT
DTSTART;TZID=America/Chicago:20300103T100000
DTEND;TZID=America/Chicago:20300103T110000
DTSTAMP:20260421T170928
CREATED:20260219T153453Z
LAST-MODIFIED:20260219T153453Z
UID:10007225-1893664800-1893668400@kshomeless.com
SUMMARY:Northeast Coordinated Entry
DESCRIPTION:Northeast CES meets the 1st and 3rd Thursdays. On the first Thursday of the month the Regional Planning meeting starts at 9:00 a.m. followed by CES at 10:00 a.m.\nThe third Thursday of the month CES begins at 9:00 a.m.\n\nZoom Link: https://kshomeless.zoom.us/j/89988253903?pwd=fJKnFt99R8xjjxeNOY5Bc57nKxY1Ed.1
URL:https://kshomeless.com/event/northeast-coordinated-entry-2-2-2-2/2030-01-03/
LOCATION:Zoom\, KS\, United States
CATEGORIES:Coordinated Entry
END:VEVENT
BEGIN:VEVENT
DTSTART;TZID=America/Chicago:20300117T090000
DTEND;TZID=America/Chicago:20300117T100000
DTSTAMP:20260421T170928
CREATED:20260121T215847Z
LAST-MODIFIED:20260219T152958Z
UID:10007838-1894870800-1894874400@kshomeless.com
SUMMARY:Northeast Coordinated Entry
DESCRIPTION:Northeast CES meets the 1st and 3rd Thursdays. On the first Thursday of the month the Regional Planning meeting starts at 9:00 a.m. followed by CES at 10:00 a.m.\nThe third Thursday of the month CES begins at 9:00 a.m.\n\nZoom Link: https://kshomeless.zoom.us/j/89988253903?pwd=fJKnFt99R8xjjxeNOY5Bc57nKxY1Ed.1
URL:https://kshomeless.com/event/northeast-coordinated-entry-6/2030-01-17/
LOCATION:Zoom\, KS\, United States
CATEGORIES:Coordinated Entry
END:VEVENT
BEGIN:VEVENT
DTSTART;TZID=America/Chicago:20300207T100000
DTEND;TZID=America/Chicago:20300207T110000
DTSTAMP:20260421T170928
CREATED:20260219T153453Z
LAST-MODIFIED:20260219T153453Z
UID:10007226-1896688800-1896692400@kshomeless.com
SUMMARY:Northeast Coordinated Entry
DESCRIPTION:Northeast CES meets the 1st and 3rd Thursdays. On the first Thursday of the month the Regional Planning meeting starts at 9:00 a.m. followed by CES at 10:00 a.m.\nThe third Thursday of the month CES begins at 9:00 a.m.\n\nZoom Link: https://kshomeless.zoom.us/j/89988253903?pwd=fJKnFt99R8xjjxeNOY5Bc57nKxY1Ed.1
URL:https://kshomeless.com/event/northeast-coordinated-entry-2-2-2-2/2030-02-07/
LOCATION:Zoom\, KS\, United States
CATEGORIES:Coordinated Entry
END:VEVENT
BEGIN:VEVENT
DTSTART;TZID=America/Chicago:20300221T090000
DTEND;TZID=America/Chicago:20300221T100000
DTSTAMP:20260421T170928
CREATED:20260121T215847Z
LAST-MODIFIED:20260219T152958Z
UID:10007839-1897894800-1897898400@kshomeless.com
SUMMARY:Northeast Coordinated Entry
DESCRIPTION:Northeast CES meets the 1st and 3rd Thursdays. On the first Thursday of the month the Regional Planning meeting starts at 9:00 a.m. followed by CES at 10:00 a.m.\nThe third Thursday of the month CES begins at 9:00 a.m.\n\nZoom Link: https://kshomeless.zoom.us/j/89988253903?pwd=fJKnFt99R8xjjxeNOY5Bc57nKxY1Ed.1
URL:https://kshomeless.com/event/northeast-coordinated-entry-6/2030-02-21/
LOCATION:Zoom\, KS\, United States
CATEGORIES:Coordinated Entry
END:VEVENT
BEGIN:VEVENT
DTSTART;TZID=America/Chicago:20300307T100000
DTEND;TZID=America/Chicago:20300307T110000
DTSTAMP:20260421T170928
CREATED:20260219T153453Z
LAST-MODIFIED:20260219T153453Z
UID:10007227-1899108000-1899111600@kshomeless.com
SUMMARY:Northeast Coordinated Entry
DESCRIPTION:Northeast CES meets the 1st and 3rd Thursdays. On the first Thursday of the month the Regional Planning meeting starts at 9:00 a.m. followed by CES at 10:00 a.m.\nThe third Thursday of the month CES begins at 9:00 a.m.\n\nZoom Link: https://kshomeless.zoom.us/j/89988253903?pwd=fJKnFt99R8xjjxeNOY5Bc57nKxY1Ed.1
URL:https://kshomeless.com/event/northeast-coordinated-entry-2-2-2-2/2030-03-07/
LOCATION:Zoom\, KS\, United States
CATEGORIES:Coordinated Entry
END:VEVENT
BEGIN:VEVENT
DTSTART;TZID=America/Chicago:20300321T090000
DTEND;TZID=America/Chicago:20300321T100000
DTSTAMP:20260421T170928
CREATED:20260121T215847Z
LAST-MODIFIED:20260219T152958Z
UID:10007840-1900314000-1900317600@kshomeless.com
SUMMARY:Northeast Coordinated Entry
DESCRIPTION:Northeast CES meets the 1st and 3rd Thursdays. On the first Thursday of the month the Regional Planning meeting starts at 9:00 a.m. followed by CES at 10:00 a.m.\nThe third Thursday of the month CES begins at 9:00 a.m.\n\nZoom Link: https://kshomeless.zoom.us/j/89988253903?pwd=fJKnFt99R8xjjxeNOY5Bc57nKxY1Ed.1
URL:https://kshomeless.com/event/northeast-coordinated-entry-6/2030-03-21/
LOCATION:Zoom\, KS\, United States
CATEGORIES:Coordinated Entry
END:VEVENT
BEGIN:VEVENT
DTSTART;TZID=America/Chicago:20300404T100000
DTEND;TZID=America/Chicago:20300404T110000
DTSTAMP:20260421T170928
CREATED:20260219T153453Z
LAST-MODIFIED:20260219T153453Z
UID:10007228-1901527200-1901530800@kshomeless.com
SUMMARY:Northeast Coordinated Entry
DESCRIPTION:Northeast CES meets the 1st and 3rd Thursdays. On the first Thursday of the month the Regional Planning meeting starts at 9:00 a.m. followed by CES at 10:00 a.m.\nThe third Thursday of the month CES begins at 9:00 a.m.\n\nZoom Link: https://kshomeless.zoom.us/j/89988253903?pwd=fJKnFt99R8xjjxeNOY5Bc57nKxY1Ed.1
URL:https://kshomeless.com/event/northeast-coordinated-entry-2-2-2-2/2030-04-04/
LOCATION:Zoom\, KS\, United States
CATEGORIES:Coordinated Entry
END:VEVENT
BEGIN:VEVENT
DTSTART;TZID=America/Chicago:20300418T090000
DTEND;TZID=America/Chicago:20300418T100000
DTSTAMP:20260421T170928
CREATED:20260121T215847Z
LAST-MODIFIED:20260219T152958Z
UID:10007841-1902733200-1902736800@kshomeless.com
SUMMARY:Northeast Coordinated Entry
DESCRIPTION:Northeast CES meets the 1st and 3rd Thursdays. On the first Thursday of the month the Regional Planning meeting starts at 9:00 a.m. followed by CES at 10:00 a.m.\nThe third Thursday of the month CES begins at 9:00 a.m.\n\nZoom Link: https://kshomeless.zoom.us/j/89988253903?pwd=fJKnFt99R8xjjxeNOY5Bc57nKxY1Ed.1
URL:https://kshomeless.com/event/northeast-coordinated-entry-6/2030-04-18/
LOCATION:Zoom\, KS\, United States
CATEGORIES:Coordinated Entry
END:VEVENT
BEGIN:VEVENT
DTSTART;TZID=America/Chicago:20300502T100000
DTEND;TZID=America/Chicago:20300502T110000
DTSTAMP:20260421T170928
CREATED:20260219T153453Z
LAST-MODIFIED:20260219T153453Z
UID:10007229-1903946400-1903950000@kshomeless.com
SUMMARY:Northeast Coordinated Entry
DESCRIPTION:Northeast CES meets the 1st and 3rd Thursdays. On the first Thursday of the month the Regional Planning meeting starts at 9:00 a.m. followed by CES at 10:00 a.m.\nThe third Thursday of the month CES begins at 9:00 a.m.\n\nZoom Link: https://kshomeless.zoom.us/j/89988253903?pwd=fJKnFt99R8xjjxeNOY5Bc57nKxY1Ed.1
URL:https://kshomeless.com/event/northeast-coordinated-entry-2-2-2-2/2030-05-02/
LOCATION:Zoom\, KS\, United States
CATEGORIES:Coordinated Entry
END:VEVENT
BEGIN:VEVENT
DTSTART;TZID=America/Chicago:20300516T090000
DTEND;TZID=America/Chicago:20300516T100000
DTSTAMP:20260421T170928
CREATED:20260121T215847Z
LAST-MODIFIED:20260219T152958Z
UID:10007842-1905152400-1905156000@kshomeless.com
SUMMARY:Northeast Coordinated Entry
DESCRIPTION:Northeast CES meets the 1st and 3rd Thursdays. On the first Thursday of the month the Regional Planning meeting starts at 9:00 a.m. followed by CES at 10:00 a.m.\nThe third Thursday of the month CES begins at 9:00 a.m.\n\nZoom Link: https://kshomeless.zoom.us/j/89988253903?pwd=fJKnFt99R8xjjxeNOY5Bc57nKxY1Ed.1
URL:https://kshomeless.com/event/northeast-coordinated-entry-6/2030-05-16/
LOCATION:Zoom\, KS\, United States
CATEGORIES:Coordinated Entry
END:VEVENT
BEGIN:VEVENT
DTSTART;TZID=America/Chicago:20300606T100000
DTEND;TZID=America/Chicago:20300606T110000
DTSTAMP:20260421T170928
CREATED:20260219T153453Z
LAST-MODIFIED:20260219T153453Z
UID:10007230-1906970400-1906974000@kshomeless.com
SUMMARY:Northeast Coordinated Entry
DESCRIPTION:Northeast CES meets the 1st and 3rd Thursdays. On the first Thursday of the month the Regional Planning meeting starts at 9:00 a.m. followed by CES at 10:00 a.m.\nThe third Thursday of the month CES begins at 9:00 a.m.\n\nZoom Link: https://kshomeless.zoom.us/j/89988253903?pwd=fJKnFt99R8xjjxeNOY5Bc57nKxY1Ed.1
URL:https://kshomeless.com/event/northeast-coordinated-entry-2-2-2-2/2030-06-06/
LOCATION:Zoom\, KS\, United States
CATEGORIES:Coordinated Entry
END:VEVENT
BEGIN:VEVENT
DTSTART;TZID=America/Chicago:20300620T090000
DTEND;TZID=America/Chicago:20300620T100000
DTSTAMP:20260421T170928
CREATED:20260121T215847Z
LAST-MODIFIED:20260219T152958Z
UID:10007843-1908176400-1908180000@kshomeless.com
SUMMARY:Northeast Coordinated Entry
DESCRIPTION:Northeast CES meets the 1st and 3rd Thursdays. On the first Thursday of the month the Regional Planning meeting starts at 9:00 a.m. followed by CES at 10:00 a.m.\nThe third Thursday of the month CES begins at 9:00 a.m.\n\nZoom Link: https://kshomeless.zoom.us/j/89988253903?pwd=fJKnFt99R8xjjxeNOY5Bc57nKxY1Ed.1
URL:https://kshomeless.com/event/northeast-coordinated-entry-6/2030-06-20/
LOCATION:Zoom\, KS\, United States
CATEGORIES:Coordinated Entry
END:VEVENT
BEGIN:VEVENT
DTSTART;TZID=America/Chicago:20300704T100000
DTEND;TZID=America/Chicago:20300704T110000
DTSTAMP:20260421T170928
CREATED:20260219T153453Z
LAST-MODIFIED:20260219T153453Z
UID:10007231-1909389600-1909393200@kshomeless.com
SUMMARY:Northeast Coordinated Entry
DESCRIPTION:Northeast CES meets the 1st and 3rd Thursdays. On the first Thursday of the month the Regional Planning meeting starts at 9:00 a.m. followed by CES at 10:00 a.m.\nThe third Thursday of the month CES begins at 9:00 a.m.\n\nZoom Link: https://kshomeless.zoom.us/j/89988253903?pwd=fJKnFt99R8xjjxeNOY5Bc57nKxY1Ed.1
URL:https://kshomeless.com/event/northeast-coordinated-entry-2-2-2-2/2030-07-04/
LOCATION:Zoom\, KS\, United States
CATEGORIES:Coordinated Entry
END:VEVENT
BEGIN:VEVENT
DTSTART;TZID=America/Chicago:20300718T090000
DTEND;TZID=America/Chicago:20300718T100000
DTSTAMP:20260421T170928
CREATED:20260121T215847Z
LAST-MODIFIED:20260219T152958Z
UID:10007844-1910595600-1910599200@kshomeless.com
SUMMARY:Northeast Coordinated Entry
DESCRIPTION:Northeast CES meets the 1st and 3rd Thursdays. On the first Thursday of the month the Regional Planning meeting starts at 9:00 a.m. followed by CES at 10:00 a.m.\nThe third Thursday of the month CES begins at 9:00 a.m.\n\nZoom Link: https://kshomeless.zoom.us/j/89988253903?pwd=fJKnFt99R8xjjxeNOY5Bc57nKxY1Ed.1
URL:https://kshomeless.com/event/northeast-coordinated-entry-6/2030-07-18/
LOCATION:Zoom\, KS\, United States
CATEGORIES:Coordinated Entry
END:VEVENT
BEGIN:VEVENT
DTSTART;TZID=America/Chicago:20300801T100000
DTEND;TZID=America/Chicago:20300801T110000
DTSTAMP:20260421T170928
CREATED:20260219T153453Z
LAST-MODIFIED:20260219T153453Z
UID:10007232-1911808800-1911812400@kshomeless.com
SUMMARY:Northeast Coordinated Entry
DESCRIPTION:Northeast CES meets the 1st and 3rd Thursdays. On the first Thursday of the month the Regional Planning meeting starts at 9:00 a.m. followed by CES at 10:00 a.m.\nThe third Thursday of the month CES begins at 9:00 a.m.\n\nZoom Link: https://kshomeless.zoom.us/j/89988253903?pwd=fJKnFt99R8xjjxeNOY5Bc57nKxY1Ed.1
URL:https://kshomeless.com/event/northeast-coordinated-entry-2-2-2-2/2030-08-01/
LOCATION:Zoom\, KS\, United States
CATEGORIES:Coordinated Entry
END:VEVENT
BEGIN:VEVENT
DTSTART;TZID=America/Chicago:20300815T090000
DTEND;TZID=America/Chicago:20300815T100000
DTSTAMP:20260421T170928
CREATED:20260121T215847Z
LAST-MODIFIED:20260219T152958Z
UID:10007845-1913014800-1913018400@kshomeless.com
SUMMARY:Northeast Coordinated Entry
DESCRIPTION:Northeast CES meets the 1st and 3rd Thursdays. On the first Thursday of the month the Regional Planning meeting starts at 9:00 a.m. followed by CES at 10:00 a.m.\nThe third Thursday of the month CES begins at 9:00 a.m.\n\nZoom Link: https://kshomeless.zoom.us/j/89988253903?pwd=fJKnFt99R8xjjxeNOY5Bc57nKxY1Ed.1
URL:https://kshomeless.com/event/northeast-coordinated-entry-6/2030-08-15/
LOCATION:Zoom\, KS\, United States
CATEGORIES:Coordinated Entry
END:VEVENT
BEGIN:VEVENT
DTSTART;TZID=America/Chicago:20300905T100000
DTEND;TZID=America/Chicago:20300905T110000
DTSTAMP:20260421T170928
CREATED:20260219T153453Z
LAST-MODIFIED:20260219T153453Z
UID:10007233-1914832800-1914836400@kshomeless.com
SUMMARY:Northeast Coordinated Entry
DESCRIPTION:Northeast CES meets the 1st and 3rd Thursdays. On the first Thursday of the month the Regional Planning meeting starts at 9:00 a.m. followed by CES at 10:00 a.m.\nThe third Thursday of the month CES begins at 9:00 a.m.\n\nZoom Link: https://kshomeless.zoom.us/j/89988253903?pwd=fJKnFt99R8xjjxeNOY5Bc57nKxY1Ed.1
URL:https://kshomeless.com/event/northeast-coordinated-entry-2-2-2-2/2030-09-05/
LOCATION:Zoom\, KS\, United States
CATEGORIES:Coordinated Entry
END:VEVENT
BEGIN:VEVENT
DTSTART;TZID=America/Chicago:20300919T090000
DTEND;TZID=America/Chicago:20300919T100000
DTSTAMP:20260421T170928
CREATED:20260121T215847Z
LAST-MODIFIED:20260219T152958Z
UID:10007846-1916038800-1916042400@kshomeless.com
SUMMARY:Northeast Coordinated Entry
DESCRIPTION:Northeast CES meets the 1st and 3rd Thursdays. On the first Thursday of the month the Regional Planning meeting starts at 9:00 a.m. followed by CES at 10:00 a.m.\nThe third Thursday of the month CES begins at 9:00 a.m.\n\nZoom Link: https://kshomeless.zoom.us/j/89988253903?pwd=fJKnFt99R8xjjxeNOY5Bc57nKxY1Ed.1
URL:https://kshomeless.com/event/northeast-coordinated-entry-6/2030-09-19/
LOCATION:Zoom\, KS\, United States
CATEGORIES:Coordinated Entry
END:VEVENT
BEGIN:VEVENT
DTSTART;TZID=America/Chicago:20301003T100000
DTEND;TZID=America/Chicago:20301003T110000
DTSTAMP:20260421T170928
CREATED:20260219T153453Z
LAST-MODIFIED:20260219T153453Z
UID:10007234-1917252000-1917255600@kshomeless.com
SUMMARY:Northeast Coordinated Entry
DESCRIPTION:Northeast CES meets the 1st and 3rd Thursdays. On the first Thursday of the month the Regional Planning meeting starts at 9:00 a.m. followed by CES at 10:00 a.m.\nThe third Thursday of the month CES begins at 9:00 a.m.\n\nZoom Link: https://kshomeless.zoom.us/j/89988253903?pwd=fJKnFt99R8xjjxeNOY5Bc57nKxY1Ed.1
URL:https://kshomeless.com/event/northeast-coordinated-entry-2-2-2-2/2030-10-03/
LOCATION:Zoom\, KS\, United States
CATEGORIES:Coordinated Entry
END:VEVENT
BEGIN:VEVENT
DTSTART;TZID=America/Chicago:20301017T090000
DTEND;TZID=America/Chicago:20301017T100000
DTSTAMP:20260421T170928
CREATED:20260121T215847Z
LAST-MODIFIED:20260219T152958Z
UID:10007847-1918458000-1918461600@kshomeless.com
SUMMARY:Northeast Coordinated Entry
DESCRIPTION:Northeast CES meets the 1st and 3rd Thursdays. On the first Thursday of the month the Regional Planning meeting starts at 9:00 a.m. followed by CES at 10:00 a.m.\nThe third Thursday of the month CES begins at 9:00 a.m.\n\nZoom Link: https://kshomeless.zoom.us/j/89988253903?pwd=fJKnFt99R8xjjxeNOY5Bc57nKxY1Ed.1
URL:https://kshomeless.com/event/northeast-coordinated-entry-6/2030-10-17/
LOCATION:Zoom\, KS\, United States
CATEGORIES:Coordinated Entry
END:VEVENT
BEGIN:VEVENT
DTSTART;TZID=America/Chicago:20301107T100000
DTEND;TZID=America/Chicago:20301107T110000
DTSTAMP:20260421T170928
CREATED:20260219T153453Z
LAST-MODIFIED:20260219T153453Z
UID:10007235-1920276000-1920279600@kshomeless.com
SUMMARY:Northeast Coordinated Entry
DESCRIPTION:Northeast CES meets the 1st and 3rd Thursdays. On the first Thursday of the month the Regional Planning meeting starts at 9:00 a.m. followed by CES at 10:00 a.m.\nThe third Thursday of the month CES begins at 9:00 a.m.\n\nZoom Link: https://kshomeless.zoom.us/j/89988253903?pwd=fJKnFt99R8xjjxeNOY5Bc57nKxY1Ed.1
URL:https://kshomeless.com/event/northeast-coordinated-entry-2-2-2-2/2030-11-07/
LOCATION:Zoom\, KS\, United States
CATEGORIES:Coordinated Entry
END:VEVENT
BEGIN:VEVENT
DTSTART;TZID=America/Chicago:20301121T090000
DTEND;TZID=America/Chicago:20301121T100000
DTSTAMP:20260421T170928
CREATED:20260121T215847Z
LAST-MODIFIED:20260219T152958Z
UID:10007848-1921482000-1921485600@kshomeless.com
SUMMARY:Northeast Coordinated Entry
DESCRIPTION:Northeast CES meets the 1st and 3rd Thursdays. On the first Thursday of the month the Regional Planning meeting starts at 9:00 a.m. followed by CES at 10:00 a.m.\nThe third Thursday of the month CES begins at 9:00 a.m.\n\nZoom Link: https://kshomeless.zoom.us/j/89988253903?pwd=fJKnFt99R8xjjxeNOY5Bc57nKxY1Ed.1
URL:https://kshomeless.com/event/northeast-coordinated-entry-6/2030-11-21/
LOCATION:Zoom\, KS\, United States
CATEGORIES:Coordinated Entry
END:VEVENT
BEGIN:VEVENT
DTSTART;TZID=America/Chicago:20301205T100000
DTEND;TZID=America/Chicago:20301205T110000
DTSTAMP:20260421T170928
CREATED:20260219T153453Z
LAST-MODIFIED:20260219T153453Z
UID:10007236-1922695200-1922698800@kshomeless.com
SUMMARY:Northeast Coordinated Entry
DESCRIPTION:Northeast CES meets the 1st and 3rd Thursdays. On the first Thursday of the month the Regional Planning meeting starts at 9:00 a.m. followed by CES at 10:00 a.m.\nThe third Thursday of the month CES begins at 9:00 a.m.\n\nZoom Link: https://kshomeless.zoom.us/j/89988253903?pwd=fJKnFt99R8xjjxeNOY5Bc57nKxY1Ed.1
URL:https://kshomeless.com/event/northeast-coordinated-entry-2-2-2-2/2030-12-05/
LOCATION:Zoom\, KS\, United States
CATEGORIES:Coordinated Entry
END:VEVENT
BEGIN:VEVENT
DTSTART;TZID=America/Chicago:20301219T090000
DTEND;TZID=America/Chicago:20301219T100000
DTSTAMP:20260421T170928
CREATED:20260121T215847Z
LAST-MODIFIED:20260219T152958Z
UID:10007849-1923901200-1923904800@kshomeless.com
SUMMARY:Northeast Coordinated Entry
DESCRIPTION:Northeast CES meets the 1st and 3rd Thursdays. On the first Thursday of the month the Regional Planning meeting starts at 9:00 a.m. followed by CES at 10:00 a.m.\nThe third Thursday of the month CES begins at 9:00 a.m.\n\nZoom Link: https://kshomeless.zoom.us/j/89988253903?pwd=fJKnFt99R8xjjxeNOY5Bc57nKxY1Ed.1
URL:https://kshomeless.com/event/northeast-coordinated-entry-6/2030-12-19/
LOCATION:Zoom\, KS\, United States
CATEGORIES:Coordinated Entry
END:VEVENT
BEGIN:VEVENT
DTSTART;TZID=America/Chicago:20310102T100000
DTEND;TZID=America/Chicago:20310102T110000
DTSTAMP:20260421T170928
CREATED:20260219T153453Z
LAST-MODIFIED:20260219T153453Z
UID:10007237-1925114400-1925118000@kshomeless.com
SUMMARY:Northeast Coordinated Entry
DESCRIPTION:Northeast CES meets the 1st and 3rd Thursdays. On the first Thursday of the month the Regional Planning meeting starts at 9:00 a.m. followed by CES at 10:00 a.m.\nThe third Thursday of the month CES begins at 9:00 a.m.\n\nZoom Link: https://kshomeless.zoom.us/j/89988253903?pwd=fJKnFt99R8xjjxeNOY5Bc57nKxY1Ed.1
URL:https://kshomeless.com/event/northeast-coordinated-entry-2-2-2-2/2031-01-02/
LOCATION:Zoom\, KS\, United States
CATEGORIES:Coordinated Entry
END:VEVENT
BEGIN:VEVENT
DTSTART;TZID=America/Chicago:20310116T090000
DTEND;TZID=America/Chicago:20310116T100000
DTSTAMP:20260421T170928
CREATED:20260121T215847Z
LAST-MODIFIED:20260219T152958Z
UID:10007850-1926320400-1926324000@kshomeless.com
SUMMARY:Northeast Coordinated Entry
DESCRIPTION:Northeast CES meets the 1st and 3rd Thursdays. On the first Thursday of the month the Regional Planning meeting starts at 9:00 a.m. followed by CES at 10:00 a.m.\nThe third Thursday of the month CES begins at 9:00 a.m.\n\nZoom Link: https://kshomeless.zoom.us/j/89988253903?pwd=fJKnFt99R8xjjxeNOY5Bc57nKxY1Ed.1
URL:https://kshomeless.com/event/northeast-coordinated-entry-6/2031-01-16/
LOCATION:Zoom\, KS\, United States
CATEGORIES:Coordinated Entry
END:VEVENT
END:VCALENDAR