BEGIN:VCALENDAR
VERSION:2.0
PRODID:-//Kansas Statewide Homeless Coalition - ECPv6.15.14//NONSGML v1.0//EN
CALSCALE:GREGORIAN
METHOD:PUBLISH
X-WR-CALNAME:Kansas Statewide Homeless Coalition
X-ORIGINAL-URL:https://kshomeless.com
X-WR-CALDESC:Events for Kansas Statewide Homeless Coalition
REFRESH-INTERVAL;VALUE=DURATION:PT1H
X-Robots-Tag:noindex
X-PUBLISHED-TTL:PT1H
BEGIN:VTIMEZONE
TZID:America/Chicago
BEGIN:DAYLIGHT
TZOFFSETFROM:-0600
TZOFFSETTO:-0500
TZNAME:CDT
DTSTART:20260308T080000
END:DAYLIGHT
BEGIN:STANDARD
TZOFFSETFROM:-0500
TZOFFSETTO:-0600
TZNAME:CST
DTSTART:20261101T070000
END:STANDARD
BEGIN:DAYLIGHT
TZOFFSETFROM:-0600
TZOFFSETTO:-0500
TZNAME:CDT
DTSTART:20270314T080000
END:DAYLIGHT
BEGIN:STANDARD
TZOFFSETFROM:-0500
TZOFFSETTO:-0600
TZNAME:CST
DTSTART:20271107T070000
END:STANDARD
BEGIN:DAYLIGHT
TZOFFSETFROM:-0600
TZOFFSETTO:-0500
TZNAME:CDT
DTSTART:20280312T080000
END:DAYLIGHT
BEGIN:STANDARD
TZOFFSETFROM:-0500
TZOFFSETTO:-0600
TZNAME:CST
DTSTART:20281105T070000
END:STANDARD
BEGIN:DAYLIGHT
TZOFFSETFROM:-0600
TZOFFSETTO:-0500
TZNAME:CDT
DTSTART:20290311T080000
END:DAYLIGHT
BEGIN:STANDARD
TZOFFSETFROM:-0500
TZOFFSETTO:-0600
TZNAME:CST
DTSTART:20291104T070000
END:STANDARD
BEGIN:DAYLIGHT
TZOFFSETFROM:-0600
TZOFFSETTO:-0500
TZNAME:CDT
DTSTART:20300310T080000
END:DAYLIGHT
BEGIN:STANDARD
TZOFFSETFROM:-0500
TZOFFSETTO:-0600
TZNAME:CST
DTSTART:20301103T070000
END:STANDARD
END:VTIMEZONE
BEGIN:VEVENT
DTSTART;TZID=America/Chicago:20271104T100000
DTEND;TZID=America/Chicago:20271104T110000
DTSTAMP:20260421T103636
CREATED:20260219T153453Z
LAST-MODIFIED:20260219T153453Z
UID:10007199-1825322400-1825326000@kshomeless.com
SUMMARY:Northeast Coordinated Entry
DESCRIPTION:Northeast CES meets the 1st and 3rd Thursdays. On the first Thursday of the month the Regional Planning meeting starts at 9:00 a.m. followed by CES at 10:00 a.m.\nThe third Thursday of the month CES begins at 9:00 a.m.\n\nZoom Link: https://kshomeless.zoom.us/j/89988253903?pwd=fJKnFt99R8xjjxeNOY5Bc57nKxY1Ed.1
URL:https://kshomeless.com/event/northeast-coordinated-entry-2-2-2-2/2027-11-04/
LOCATION:Zoom\, KS\, United States
CATEGORIES:Coordinated Entry
END:VEVENT
BEGIN:VEVENT
DTSTART;TZID=America/Chicago:20271118T090000
DTEND;TZID=America/Chicago:20271118T100000
DTSTAMP:20260421T103636
CREATED:20260121T215847Z
LAST-MODIFIED:20260219T152958Z
UID:10007812-1826528400-1826532000@kshomeless.com
SUMMARY:Northeast Coordinated Entry
DESCRIPTION:Northeast CES meets the 1st and 3rd Thursdays. On the first Thursday of the month the Regional Planning meeting starts at 9:00 a.m. followed by CES at 10:00 a.m.\nThe third Thursday of the month CES begins at 9:00 a.m.\n\nZoom Link: https://kshomeless.zoom.us/j/89988253903?pwd=fJKnFt99R8xjjxeNOY5Bc57nKxY1Ed.1
URL:https://kshomeless.com/event/northeast-coordinated-entry-6/2027-11-18/
LOCATION:Zoom\, KS\, United States
CATEGORIES:Coordinated Entry
END:VEVENT
BEGIN:VEVENT
DTSTART;TZID=America/Chicago:20271202T100000
DTEND;TZID=America/Chicago:20271202T110000
DTSTAMP:20260421T103636
CREATED:20260219T153453Z
LAST-MODIFIED:20260219T153453Z
UID:10007200-1827741600-1827745200@kshomeless.com
SUMMARY:Northeast Coordinated Entry
DESCRIPTION:Northeast CES meets the 1st and 3rd Thursdays. On the first Thursday of the month the Regional Planning meeting starts at 9:00 a.m. followed by CES at 10:00 a.m.\nThe third Thursday of the month CES begins at 9:00 a.m.\n\nZoom Link: https://kshomeless.zoom.us/j/89988253903?pwd=fJKnFt99R8xjjxeNOY5Bc57nKxY1Ed.1
URL:https://kshomeless.com/event/northeast-coordinated-entry-2-2-2-2/2027-12-02/
LOCATION:Zoom\, KS\, United States
CATEGORIES:Coordinated Entry
END:VEVENT
BEGIN:VEVENT
DTSTART;TZID=America/Chicago:20271216T090000
DTEND;TZID=America/Chicago:20271216T100000
DTSTAMP:20260421T103636
CREATED:20260121T215847Z
LAST-MODIFIED:20260219T152958Z
UID:10007813-1828947600-1828951200@kshomeless.com
SUMMARY:Northeast Coordinated Entry
DESCRIPTION:Northeast CES meets the 1st and 3rd Thursdays. On the first Thursday of the month the Regional Planning meeting starts at 9:00 a.m. followed by CES at 10:00 a.m.\nThe third Thursday of the month CES begins at 9:00 a.m.\n\nZoom Link: https://kshomeless.zoom.us/j/89988253903?pwd=fJKnFt99R8xjjxeNOY5Bc57nKxY1Ed.1
URL:https://kshomeless.com/event/northeast-coordinated-entry-6/2027-12-16/
LOCATION:Zoom\, KS\, United States
CATEGORIES:Coordinated Entry
END:VEVENT
BEGIN:VEVENT
DTSTART;TZID=America/Chicago:20280106T100000
DTEND;TZID=America/Chicago:20280106T110000
DTSTAMP:20260421T103636
CREATED:20260219T153453Z
LAST-MODIFIED:20260219T153453Z
UID:10007201-1830765600-1830769200@kshomeless.com
SUMMARY:Northeast Coordinated Entry
DESCRIPTION:Northeast CES meets the 1st and 3rd Thursdays. On the first Thursday of the month the Regional Planning meeting starts at 9:00 a.m. followed by CES at 10:00 a.m.\nThe third Thursday of the month CES begins at 9:00 a.m.\n\nZoom Link: https://kshomeless.zoom.us/j/89988253903?pwd=fJKnFt99R8xjjxeNOY5Bc57nKxY1Ed.1
URL:https://kshomeless.com/event/northeast-coordinated-entry-2-2-2-2/2028-01-06/
LOCATION:Zoom\, KS\, United States
CATEGORIES:Coordinated Entry
END:VEVENT
BEGIN:VEVENT
DTSTART;TZID=America/Chicago:20280120T090000
DTEND;TZID=America/Chicago:20280120T100000
DTSTAMP:20260421T103636
CREATED:20260121T215847Z
LAST-MODIFIED:20260219T152958Z
UID:10007814-1831971600-1831975200@kshomeless.com
SUMMARY:Northeast Coordinated Entry
DESCRIPTION:Northeast CES meets the 1st and 3rd Thursdays. On the first Thursday of the month the Regional Planning meeting starts at 9:00 a.m. followed by CES at 10:00 a.m.\nThe third Thursday of the month CES begins at 9:00 a.m.\n\nZoom Link: https://kshomeless.zoom.us/j/89988253903?pwd=fJKnFt99R8xjjxeNOY5Bc57nKxY1Ed.1
URL:https://kshomeless.com/event/northeast-coordinated-entry-6/2028-01-20/
LOCATION:Zoom\, KS\, United States
CATEGORIES:Coordinated Entry
END:VEVENT
BEGIN:VEVENT
DTSTART;TZID=America/Chicago:20280203T100000
DTEND;TZID=America/Chicago:20280203T110000
DTSTAMP:20260421T103636
CREATED:20260219T153453Z
LAST-MODIFIED:20260219T153453Z
UID:10007202-1833184800-1833188400@kshomeless.com
SUMMARY:Northeast Coordinated Entry
DESCRIPTION:Northeast CES meets the 1st and 3rd Thursdays. On the first Thursday of the month the Regional Planning meeting starts at 9:00 a.m. followed by CES at 10:00 a.m.\nThe third Thursday of the month CES begins at 9:00 a.m.\n\nZoom Link: https://kshomeless.zoom.us/j/89988253903?pwd=fJKnFt99R8xjjxeNOY5Bc57nKxY1Ed.1
URL:https://kshomeless.com/event/northeast-coordinated-entry-2-2-2-2/2028-02-03/
LOCATION:Zoom\, KS\, United States
CATEGORIES:Coordinated Entry
END:VEVENT
BEGIN:VEVENT
DTSTART;TZID=America/Chicago:20280217T090000
DTEND;TZID=America/Chicago:20280217T100000
DTSTAMP:20260421T103636
CREATED:20260121T215847Z
LAST-MODIFIED:20260219T152958Z
UID:10007815-1834390800-1834394400@kshomeless.com
SUMMARY:Northeast Coordinated Entry
DESCRIPTION:Northeast CES meets the 1st and 3rd Thursdays. On the first Thursday of the month the Regional Planning meeting starts at 9:00 a.m. followed by CES at 10:00 a.m.\nThe third Thursday of the month CES begins at 9:00 a.m.\n\nZoom Link: https://kshomeless.zoom.us/j/89988253903?pwd=fJKnFt99R8xjjxeNOY5Bc57nKxY1Ed.1
URL:https://kshomeless.com/event/northeast-coordinated-entry-6/2028-02-17/
LOCATION:Zoom\, KS\, United States
CATEGORIES:Coordinated Entry
END:VEVENT
BEGIN:VEVENT
DTSTART;TZID=America/Chicago:20280302T100000
DTEND;TZID=America/Chicago:20280302T110000
DTSTAMP:20260421T103636
CREATED:20260219T153453Z
LAST-MODIFIED:20260219T153453Z
UID:10007203-1835604000-1835607600@kshomeless.com
SUMMARY:Northeast Coordinated Entry
DESCRIPTION:Northeast CES meets the 1st and 3rd Thursdays. On the first Thursday of the month the Regional Planning meeting starts at 9:00 a.m. followed by CES at 10:00 a.m.\nThe third Thursday of the month CES begins at 9:00 a.m.\n\nZoom Link: https://kshomeless.zoom.us/j/89988253903?pwd=fJKnFt99R8xjjxeNOY5Bc57nKxY1Ed.1
URL:https://kshomeless.com/event/northeast-coordinated-entry-2-2-2-2/2028-03-02/
LOCATION:Zoom\, KS\, United States
CATEGORIES:Coordinated Entry
END:VEVENT
BEGIN:VEVENT
DTSTART;TZID=America/Chicago:20280316T090000
DTEND;TZID=America/Chicago:20280316T100000
DTSTAMP:20260421T103636
CREATED:20260121T215847Z
LAST-MODIFIED:20260219T152958Z
UID:10007816-1836810000-1836813600@kshomeless.com
SUMMARY:Northeast Coordinated Entry
DESCRIPTION:Northeast CES meets the 1st and 3rd Thursdays. On the first Thursday of the month the Regional Planning meeting starts at 9:00 a.m. followed by CES at 10:00 a.m.\nThe third Thursday of the month CES begins at 9:00 a.m.\n\nZoom Link: https://kshomeless.zoom.us/j/89988253903?pwd=fJKnFt99R8xjjxeNOY5Bc57nKxY1Ed.1
URL:https://kshomeless.com/event/northeast-coordinated-entry-6/2028-03-16/
LOCATION:Zoom\, KS\, United States
CATEGORIES:Coordinated Entry
END:VEVENT
BEGIN:VEVENT
DTSTART;TZID=America/Chicago:20280406T100000
DTEND;TZID=America/Chicago:20280406T110000
DTSTAMP:20260421T103636
CREATED:20260219T153453Z
LAST-MODIFIED:20260219T153453Z
UID:10007204-1838628000-1838631600@kshomeless.com
SUMMARY:Northeast Coordinated Entry
DESCRIPTION:Northeast CES meets the 1st and 3rd Thursdays. On the first Thursday of the month the Regional Planning meeting starts at 9:00 a.m. followed by CES at 10:00 a.m.\nThe third Thursday of the month CES begins at 9:00 a.m.\n\nZoom Link: https://kshomeless.zoom.us/j/89988253903?pwd=fJKnFt99R8xjjxeNOY5Bc57nKxY1Ed.1
URL:https://kshomeless.com/event/northeast-coordinated-entry-2-2-2-2/2028-04-06/
LOCATION:Zoom\, KS\, United States
CATEGORIES:Coordinated Entry
END:VEVENT
BEGIN:VEVENT
DTSTART;TZID=America/Chicago:20280420T090000
DTEND;TZID=America/Chicago:20280420T100000
DTSTAMP:20260421T103636
CREATED:20260121T215847Z
LAST-MODIFIED:20260219T152958Z
UID:10007817-1839834000-1839837600@kshomeless.com
SUMMARY:Northeast Coordinated Entry
DESCRIPTION:Northeast CES meets the 1st and 3rd Thursdays. On the first Thursday of the month the Regional Planning meeting starts at 9:00 a.m. followed by CES at 10:00 a.m.\nThe third Thursday of the month CES begins at 9:00 a.m.\n\nZoom Link: https://kshomeless.zoom.us/j/89988253903?pwd=fJKnFt99R8xjjxeNOY5Bc57nKxY1Ed.1
URL:https://kshomeless.com/event/northeast-coordinated-entry-6/2028-04-20/
LOCATION:Zoom\, KS\, United States
CATEGORIES:Coordinated Entry
END:VEVENT
BEGIN:VEVENT
DTSTART;TZID=America/Chicago:20280504T100000
DTEND;TZID=America/Chicago:20280504T110000
DTSTAMP:20260421T103636
CREATED:20260219T153453Z
LAST-MODIFIED:20260219T153453Z
UID:10007205-1841047200-1841050800@kshomeless.com
SUMMARY:Northeast Coordinated Entry
DESCRIPTION:Northeast CES meets the 1st and 3rd Thursdays. On the first Thursday of the month the Regional Planning meeting starts at 9:00 a.m. followed by CES at 10:00 a.m.\nThe third Thursday of the month CES begins at 9:00 a.m.\n\nZoom Link: https://kshomeless.zoom.us/j/89988253903?pwd=fJKnFt99R8xjjxeNOY5Bc57nKxY1Ed.1
URL:https://kshomeless.com/event/northeast-coordinated-entry-2-2-2-2/2028-05-04/
LOCATION:Zoom\, KS\, United States
CATEGORIES:Coordinated Entry
END:VEVENT
BEGIN:VEVENT
DTSTART;TZID=America/Chicago:20280518T090000
DTEND;TZID=America/Chicago:20280518T100000
DTSTAMP:20260421T103636
CREATED:20260121T215847Z
LAST-MODIFIED:20260219T152958Z
UID:10007818-1842253200-1842256800@kshomeless.com
SUMMARY:Northeast Coordinated Entry
DESCRIPTION:Northeast CES meets the 1st and 3rd Thursdays. On the first Thursday of the month the Regional Planning meeting starts at 9:00 a.m. followed by CES at 10:00 a.m.\nThe third Thursday of the month CES begins at 9:00 a.m.\n\nZoom Link: https://kshomeless.zoom.us/j/89988253903?pwd=fJKnFt99R8xjjxeNOY5Bc57nKxY1Ed.1
URL:https://kshomeless.com/event/northeast-coordinated-entry-6/2028-05-18/
LOCATION:Zoom\, KS\, United States
CATEGORIES:Coordinated Entry
END:VEVENT
BEGIN:VEVENT
DTSTART;TZID=America/Chicago:20280601T100000
DTEND;TZID=America/Chicago:20280601T110000
DTSTAMP:20260421T103636
CREATED:20260219T153453Z
LAST-MODIFIED:20260219T153453Z
UID:10007206-1843466400-1843470000@kshomeless.com
SUMMARY:Northeast Coordinated Entry
DESCRIPTION:Northeast CES meets the 1st and 3rd Thursdays. On the first Thursday of the month the Regional Planning meeting starts at 9:00 a.m. followed by CES at 10:00 a.m.\nThe third Thursday of the month CES begins at 9:00 a.m.\n\nZoom Link: https://kshomeless.zoom.us/j/89988253903?pwd=fJKnFt99R8xjjxeNOY5Bc57nKxY1Ed.1
URL:https://kshomeless.com/event/northeast-coordinated-entry-2-2-2-2/2028-06-01/
LOCATION:Zoom\, KS\, United States
CATEGORIES:Coordinated Entry
END:VEVENT
BEGIN:VEVENT
DTSTART;TZID=America/Chicago:20280615T090000
DTEND;TZID=America/Chicago:20280615T100000
DTSTAMP:20260421T103636
CREATED:20260121T215847Z
LAST-MODIFIED:20260219T152958Z
UID:10007819-1844672400-1844676000@kshomeless.com
SUMMARY:Northeast Coordinated Entry
DESCRIPTION:Northeast CES meets the 1st and 3rd Thursdays. On the first Thursday of the month the Regional Planning meeting starts at 9:00 a.m. followed by CES at 10:00 a.m.\nThe third Thursday of the month CES begins at 9:00 a.m.\n\nZoom Link: https://kshomeless.zoom.us/j/89988253903?pwd=fJKnFt99R8xjjxeNOY5Bc57nKxY1Ed.1
URL:https://kshomeless.com/event/northeast-coordinated-entry-6/2028-06-15/
LOCATION:Zoom\, KS\, United States
CATEGORIES:Coordinated Entry
END:VEVENT
BEGIN:VEVENT
DTSTART;TZID=America/Chicago:20280706T100000
DTEND;TZID=America/Chicago:20280706T110000
DTSTAMP:20260421T103636
CREATED:20260219T153453Z
LAST-MODIFIED:20260219T153453Z
UID:10007207-1846490400-1846494000@kshomeless.com
SUMMARY:Northeast Coordinated Entry
DESCRIPTION:Northeast CES meets the 1st and 3rd Thursdays. On the first Thursday of the month the Regional Planning meeting starts at 9:00 a.m. followed by CES at 10:00 a.m.\nThe third Thursday of the month CES begins at 9:00 a.m.\n\nZoom Link: https://kshomeless.zoom.us/j/89988253903?pwd=fJKnFt99R8xjjxeNOY5Bc57nKxY1Ed.1
URL:https://kshomeless.com/event/northeast-coordinated-entry-2-2-2-2/2028-07-06/
LOCATION:Zoom\, KS\, United States
CATEGORIES:Coordinated Entry
END:VEVENT
BEGIN:VEVENT
DTSTART;TZID=America/Chicago:20280720T090000
DTEND;TZID=America/Chicago:20280720T100000
DTSTAMP:20260421T103636
CREATED:20260121T215847Z
LAST-MODIFIED:20260219T152958Z
UID:10007820-1847696400-1847700000@kshomeless.com
SUMMARY:Northeast Coordinated Entry
DESCRIPTION:Northeast CES meets the 1st and 3rd Thursdays. On the first Thursday of the month the Regional Planning meeting starts at 9:00 a.m. followed by CES at 10:00 a.m.\nThe third Thursday of the month CES begins at 9:00 a.m.\n\nZoom Link: https://kshomeless.zoom.us/j/89988253903?pwd=fJKnFt99R8xjjxeNOY5Bc57nKxY1Ed.1
URL:https://kshomeless.com/event/northeast-coordinated-entry-6/2028-07-20/
LOCATION:Zoom\, KS\, United States
CATEGORIES:Coordinated Entry
END:VEVENT
BEGIN:VEVENT
DTSTART;TZID=America/Chicago:20280803T100000
DTEND;TZID=America/Chicago:20280803T110000
DTSTAMP:20260421T103636
CREATED:20260219T153453Z
LAST-MODIFIED:20260219T153453Z
UID:10007208-1848909600-1848913200@kshomeless.com
SUMMARY:Northeast Coordinated Entry
DESCRIPTION:Northeast CES meets the 1st and 3rd Thursdays. On the first Thursday of the month the Regional Planning meeting starts at 9:00 a.m. followed by CES at 10:00 a.m.\nThe third Thursday of the month CES begins at 9:00 a.m.\n\nZoom Link: https://kshomeless.zoom.us/j/89988253903?pwd=fJKnFt99R8xjjxeNOY5Bc57nKxY1Ed.1
URL:https://kshomeless.com/event/northeast-coordinated-entry-2-2-2-2/2028-08-03/
LOCATION:Zoom\, KS\, United States
CATEGORIES:Coordinated Entry
END:VEVENT
BEGIN:VEVENT
DTSTART;TZID=America/Chicago:20280817T090000
DTEND;TZID=America/Chicago:20280817T100000
DTSTAMP:20260421T103636
CREATED:20260121T215847Z
LAST-MODIFIED:20260219T152958Z
UID:10007821-1850115600-1850119200@kshomeless.com
SUMMARY:Northeast Coordinated Entry
DESCRIPTION:Northeast CES meets the 1st and 3rd Thursdays. On the first Thursday of the month the Regional Planning meeting starts at 9:00 a.m. followed by CES at 10:00 a.m.\nThe third Thursday of the month CES begins at 9:00 a.m.\n\nZoom Link: https://kshomeless.zoom.us/j/89988253903?pwd=fJKnFt99R8xjjxeNOY5Bc57nKxY1Ed.1
URL:https://kshomeless.com/event/northeast-coordinated-entry-6/2028-08-17/
LOCATION:Zoom\, KS\, United States
CATEGORIES:Coordinated Entry
END:VEVENT
BEGIN:VEVENT
DTSTART;TZID=America/Chicago:20280907T100000
DTEND;TZID=America/Chicago:20280907T110000
DTSTAMP:20260421T103636
CREATED:20260219T153453Z
LAST-MODIFIED:20260219T153453Z
UID:10007209-1851933600-1851937200@kshomeless.com
SUMMARY:Northeast Coordinated Entry
DESCRIPTION:Northeast CES meets the 1st and 3rd Thursdays. On the first Thursday of the month the Regional Planning meeting starts at 9:00 a.m. followed by CES at 10:00 a.m.\nThe third Thursday of the month CES begins at 9:00 a.m.\n\nZoom Link: https://kshomeless.zoom.us/j/89988253903?pwd=fJKnFt99R8xjjxeNOY5Bc57nKxY1Ed.1
URL:https://kshomeless.com/event/northeast-coordinated-entry-2-2-2-2/2028-09-07/
LOCATION:Zoom\, KS\, United States
CATEGORIES:Coordinated Entry
END:VEVENT
BEGIN:VEVENT
DTSTART;TZID=America/Chicago:20280921T090000
DTEND;TZID=America/Chicago:20280921T100000
DTSTAMP:20260421T103636
CREATED:20260121T215847Z
LAST-MODIFIED:20260219T152958Z
UID:10007822-1853139600-1853143200@kshomeless.com
SUMMARY:Northeast Coordinated Entry
DESCRIPTION:Northeast CES meets the 1st and 3rd Thursdays. On the first Thursday of the month the Regional Planning meeting starts at 9:00 a.m. followed by CES at 10:00 a.m.\nThe third Thursday of the month CES begins at 9:00 a.m.\n\nZoom Link: https://kshomeless.zoom.us/j/89988253903?pwd=fJKnFt99R8xjjxeNOY5Bc57nKxY1Ed.1
URL:https://kshomeless.com/event/northeast-coordinated-entry-6/2028-09-21/
LOCATION:Zoom\, KS\, United States
CATEGORIES:Coordinated Entry
END:VEVENT
BEGIN:VEVENT
DTSTART;TZID=America/Chicago:20281005T100000
DTEND;TZID=America/Chicago:20281005T110000
DTSTAMP:20260421T103636
CREATED:20260219T153453Z
LAST-MODIFIED:20260219T153453Z
UID:10007210-1854352800-1854356400@kshomeless.com
SUMMARY:Northeast Coordinated Entry
DESCRIPTION:Northeast CES meets the 1st and 3rd Thursdays. On the first Thursday of the month the Regional Planning meeting starts at 9:00 a.m. followed by CES at 10:00 a.m.\nThe third Thursday of the month CES begins at 9:00 a.m.\n\nZoom Link: https://kshomeless.zoom.us/j/89988253903?pwd=fJKnFt99R8xjjxeNOY5Bc57nKxY1Ed.1
URL:https://kshomeless.com/event/northeast-coordinated-entry-2-2-2-2/2028-10-05/
LOCATION:Zoom\, KS\, United States
CATEGORIES:Coordinated Entry
END:VEVENT
BEGIN:VEVENT
DTSTART;TZID=America/Chicago:20281019T090000
DTEND;TZID=America/Chicago:20281019T100000
DTSTAMP:20260421T103636
CREATED:20260121T215847Z
LAST-MODIFIED:20260219T152958Z
UID:10007823-1855558800-1855562400@kshomeless.com
SUMMARY:Northeast Coordinated Entry
DESCRIPTION:Northeast CES meets the 1st and 3rd Thursdays. On the first Thursday of the month the Regional Planning meeting starts at 9:00 a.m. followed by CES at 10:00 a.m.\nThe third Thursday of the month CES begins at 9:00 a.m.\n\nZoom Link: https://kshomeless.zoom.us/j/89988253903?pwd=fJKnFt99R8xjjxeNOY5Bc57nKxY1Ed.1
URL:https://kshomeless.com/event/northeast-coordinated-entry-6/2028-10-19/
LOCATION:Zoom\, KS\, United States
CATEGORIES:Coordinated Entry
END:VEVENT
BEGIN:VEVENT
DTSTART;TZID=America/Chicago:20281102T100000
DTEND;TZID=America/Chicago:20281102T110000
DTSTAMP:20260421T103636
CREATED:20260219T153453Z
LAST-MODIFIED:20260219T153453Z
UID:10007211-1856772000-1856775600@kshomeless.com
SUMMARY:Northeast Coordinated Entry
DESCRIPTION:Northeast CES meets the 1st and 3rd Thursdays. On the first Thursday of the month the Regional Planning meeting starts at 9:00 a.m. followed by CES at 10:00 a.m.\nThe third Thursday of the month CES begins at 9:00 a.m.\n\nZoom Link: https://kshomeless.zoom.us/j/89988253903?pwd=fJKnFt99R8xjjxeNOY5Bc57nKxY1Ed.1
URL:https://kshomeless.com/event/northeast-coordinated-entry-2-2-2-2/2028-11-02/
LOCATION:Zoom\, KS\, United States
CATEGORIES:Coordinated Entry
END:VEVENT
BEGIN:VEVENT
DTSTART;TZID=America/Chicago:20281116T090000
DTEND;TZID=America/Chicago:20281116T100000
DTSTAMP:20260421T103636
CREATED:20260121T215847Z
LAST-MODIFIED:20260219T152958Z
UID:10007824-1857978000-1857981600@kshomeless.com
SUMMARY:Northeast Coordinated Entry
DESCRIPTION:Northeast CES meets the 1st and 3rd Thursdays. On the first Thursday of the month the Regional Planning meeting starts at 9:00 a.m. followed by CES at 10:00 a.m.\nThe third Thursday of the month CES begins at 9:00 a.m.\n\nZoom Link: https://kshomeless.zoom.us/j/89988253903?pwd=fJKnFt99R8xjjxeNOY5Bc57nKxY1Ed.1
URL:https://kshomeless.com/event/northeast-coordinated-entry-6/2028-11-16/
LOCATION:Zoom\, KS\, United States
CATEGORIES:Coordinated Entry
END:VEVENT
BEGIN:VEVENT
DTSTART;TZID=America/Chicago:20281207T100000
DTEND;TZID=America/Chicago:20281207T110000
DTSTAMP:20260421T103636
CREATED:20260219T153453Z
LAST-MODIFIED:20260219T153453Z
UID:10007212-1859796000-1859799600@kshomeless.com
SUMMARY:Northeast Coordinated Entry
DESCRIPTION:Northeast CES meets the 1st and 3rd Thursdays. On the first Thursday of the month the Regional Planning meeting starts at 9:00 a.m. followed by CES at 10:00 a.m.\nThe third Thursday of the month CES begins at 9:00 a.m.\n\nZoom Link: https://kshomeless.zoom.us/j/89988253903?pwd=fJKnFt99R8xjjxeNOY5Bc57nKxY1Ed.1
URL:https://kshomeless.com/event/northeast-coordinated-entry-2-2-2-2/2028-12-07/
LOCATION:Zoom\, KS\, United States
CATEGORIES:Coordinated Entry
END:VEVENT
BEGIN:VEVENT
DTSTART;TZID=America/Chicago:20281221T090000
DTEND;TZID=America/Chicago:20281221T100000
DTSTAMP:20260421T103636
CREATED:20260121T215847Z
LAST-MODIFIED:20260219T152958Z
UID:10007825-1861002000-1861005600@kshomeless.com
SUMMARY:Northeast Coordinated Entry
DESCRIPTION:Northeast CES meets the 1st and 3rd Thursdays. On the first Thursday of the month the Regional Planning meeting starts at 9:00 a.m. followed by CES at 10:00 a.m.\nThe third Thursday of the month CES begins at 9:00 a.m.\n\nZoom Link: https://kshomeless.zoom.us/j/89988253903?pwd=fJKnFt99R8xjjxeNOY5Bc57nKxY1Ed.1
URL:https://kshomeless.com/event/northeast-coordinated-entry-6/2028-12-21/
LOCATION:Zoom\, KS\, United States
CATEGORIES:Coordinated Entry
END:VEVENT
BEGIN:VEVENT
DTSTART;TZID=America/Chicago:20290104T100000
DTEND;TZID=America/Chicago:20290104T110000
DTSTAMP:20260421T103636
CREATED:20260219T153453Z
LAST-MODIFIED:20260219T153453Z
UID:10007213-1862215200-1862218800@kshomeless.com
SUMMARY:Northeast Coordinated Entry
DESCRIPTION:Northeast CES meets the 1st and 3rd Thursdays. On the first Thursday of the month the Regional Planning meeting starts at 9:00 a.m. followed by CES at 10:00 a.m.\nThe third Thursday of the month CES begins at 9:00 a.m.\n\nZoom Link: https://kshomeless.zoom.us/j/89988253903?pwd=fJKnFt99R8xjjxeNOY5Bc57nKxY1Ed.1
URL:https://kshomeless.com/event/northeast-coordinated-entry-2-2-2-2/2029-01-04/
LOCATION:Zoom\, KS\, United States
CATEGORIES:Coordinated Entry
END:VEVENT
BEGIN:VEVENT
DTSTART;TZID=America/Chicago:20290118T090000
DTEND;TZID=America/Chicago:20290118T100000
DTSTAMP:20260421T103636
CREATED:20260121T215847Z
LAST-MODIFIED:20260219T152958Z
UID:10007826-1863421200-1863424800@kshomeless.com
SUMMARY:Northeast Coordinated Entry
DESCRIPTION:Northeast CES meets the 1st and 3rd Thursdays. On the first Thursday of the month the Regional Planning meeting starts at 9:00 a.m. followed by CES at 10:00 a.m.\nThe third Thursday of the month CES begins at 9:00 a.m.\n\nZoom Link: https://kshomeless.zoom.us/j/89988253903?pwd=fJKnFt99R8xjjxeNOY5Bc57nKxY1Ed.1
URL:https://kshomeless.com/event/northeast-coordinated-entry-6/2029-01-18/
LOCATION:Zoom\, KS\, United States
CATEGORIES:Coordinated Entry
END:VEVENT
END:VCALENDAR