BEGIN:VCALENDAR
VERSION:2.0
PRODID:-//Kansas Statewide Homeless Coalition - ECPv6.15.14//NONSGML v1.0//EN
CALSCALE:GREGORIAN
METHOD:PUBLISH
X-ORIGINAL-URL:https://kshomeless.com
X-WR-CALDESC:Events for Kansas Statewide Homeless Coalition
REFRESH-INTERVAL;VALUE=DURATION:PT1H
X-Robots-Tag:noindex
X-PUBLISHED-TTL:PT1H
BEGIN:VTIMEZONE
TZID:America/Chicago
BEGIN:DAYLIGHT
TZOFFSETFROM:-0600
TZOFFSETTO:-0500
TZNAME:CDT
DTSTART:20280312T080000
END:DAYLIGHT
BEGIN:STANDARD
TZOFFSETFROM:-0500
TZOFFSETTO:-0600
TZNAME:CST
DTSTART:20281105T070000
END:STANDARD
BEGIN:DAYLIGHT
TZOFFSETFROM:-0600
TZOFFSETTO:-0500
TZNAME:CDT
DTSTART:20290311T080000
END:DAYLIGHT
BEGIN:STANDARD
TZOFFSETFROM:-0500
TZOFFSETTO:-0600
TZNAME:CST
DTSTART:20291104T070000
END:STANDARD
BEGIN:DAYLIGHT
TZOFFSETFROM:-0600
TZOFFSETTO:-0500
TZNAME:CDT
DTSTART:20300310T080000
END:DAYLIGHT
BEGIN:STANDARD
TZOFFSETFROM:-0500
TZOFFSETTO:-0600
TZNAME:CST
DTSTART:20301103T070000
END:STANDARD
BEGIN:DAYLIGHT
TZOFFSETFROM:-0600
TZOFFSETTO:-0500
TZNAME:CDT
DTSTART:20310309T080000
END:DAYLIGHT
BEGIN:STANDARD
TZOFFSETFROM:-0500
TZOFFSETTO:-0600
TZNAME:CST
DTSTART:20311102T070000
END:STANDARD
END:VTIMEZONE
BEGIN:VEVENT
DTSTART;TZID=America/Chicago:20290508T100000
DTEND;TZID=America/Chicago:20290508T110000
DTSTAMP:20260421T043506
CREATED:20241119T223311Z
LAST-MODIFIED:20251209T172025Z
UID:10007584-1872928800-1872932400@kshomeless.com
SUMMARY:Southwest Regional Planning Meeting
DESCRIPTION:SW Regional Planning Meeting. Meets monthly on the second Tuesday at 10am followed by the CES meeting at 11am. \nIn-person and zoom. \nJoin Zoom Meeting\nhttps://kshomeless.zoom.us/j/82821626657?pwd=bUS7daIlrXUqMQ0Fnd593309G6NiBV.1 \nMeeting ID: 859 7021 3961\nPasscode: 833136 \nIn-Person Quarterly Location: \nCatholic Charities of Southwest Kansas \n804 N 2nd \nDodge City\, KS \n 
URL:https://kshomeless.com/event/sw-regional-meeting-2/2029-05-08/
CATEGORIES:Regional Planning
ORGANIZER;CN="Kayla Knier":MAILTO:kknier@kshomeless.com
END:VEVENT
BEGIN:VEVENT
DTSTART;TZID=America/Chicago:20290612T100000
DTEND;TZID=America/Chicago:20290612T110000
DTSTAMP:20260421T043506
CREATED:20241119T223311Z
LAST-MODIFIED:20251209T172025Z
UID:10007585-1875952800-1875956400@kshomeless.com
SUMMARY:Southwest Regional Planning Meeting
DESCRIPTION:SW Regional Planning Meeting. Meets monthly on the second Tuesday at 10am followed by the CES meeting at 11am. \nIn-person and zoom. \nJoin Zoom Meeting\nhttps://kshomeless.zoom.us/j/82821626657?pwd=bUS7daIlrXUqMQ0Fnd593309G6NiBV.1 \nMeeting ID: 859 7021 3961\nPasscode: 833136 \nIn-Person Quarterly Location: \nCatholic Charities of Southwest Kansas \n804 N 2nd \nDodge City\, KS \n 
URL:https://kshomeless.com/event/sw-regional-meeting-2/2029-06-12/
CATEGORIES:Regional Planning
ORGANIZER;CN="Kayla Knier":MAILTO:kknier@kshomeless.com
END:VEVENT
BEGIN:VEVENT
DTSTART;TZID=America/Chicago:20290710T100000
DTEND;TZID=America/Chicago:20290710T110000
DTSTAMP:20260421T043506
CREATED:20241119T223311Z
LAST-MODIFIED:20251209T172025Z
UID:10007586-1878372000-1878375600@kshomeless.com
SUMMARY:Southwest Regional Planning Meeting
DESCRIPTION:SW Regional Planning Meeting. Meets monthly on the second Tuesday at 10am followed by the CES meeting at 11am. \nIn-person and zoom. \nJoin Zoom Meeting\nhttps://kshomeless.zoom.us/j/82821626657?pwd=bUS7daIlrXUqMQ0Fnd593309G6NiBV.1 \nMeeting ID: 859 7021 3961\nPasscode: 833136 \nIn-Person Quarterly Location: \nCatholic Charities of Southwest Kansas \n804 N 2nd \nDodge City\, KS \n 
URL:https://kshomeless.com/event/sw-regional-meeting-2/2029-07-10/
CATEGORIES:Regional Planning
ORGANIZER;CN="Kayla Knier":MAILTO:kknier@kshomeless.com
END:VEVENT
BEGIN:VEVENT
DTSTART;TZID=America/Chicago:20290814T100000
DTEND;TZID=America/Chicago:20290814T110000
DTSTAMP:20260421T043507
CREATED:20241119T223311Z
LAST-MODIFIED:20251209T172025Z
UID:10007587-1881396000-1881399600@kshomeless.com
SUMMARY:Southwest Regional Planning Meeting
DESCRIPTION:SW Regional Planning Meeting. Meets monthly on the second Tuesday at 10am followed by the CES meeting at 11am. \nIn-person and zoom. \nJoin Zoom Meeting\nhttps://kshomeless.zoom.us/j/82821626657?pwd=bUS7daIlrXUqMQ0Fnd593309G6NiBV.1 \nMeeting ID: 859 7021 3961\nPasscode: 833136 \nIn-Person Quarterly Location: \nCatholic Charities of Southwest Kansas \n804 N 2nd \nDodge City\, KS \n 
URL:https://kshomeless.com/event/sw-regional-meeting-2/2029-08-14/
CATEGORIES:Regional Planning
ORGANIZER;CN="Kayla Knier":MAILTO:kknier@kshomeless.com
END:VEVENT
BEGIN:VEVENT
DTSTART;TZID=America/Chicago:20290911T100000
DTEND;TZID=America/Chicago:20290911T110000
DTSTAMP:20260421T043507
CREATED:20241119T223311Z
LAST-MODIFIED:20251209T172025Z
UID:10007588-1883815200-1883818800@kshomeless.com
SUMMARY:Southwest Regional Planning Meeting
DESCRIPTION:SW Regional Planning Meeting. Meets monthly on the second Tuesday at 10am followed by the CES meeting at 11am. \nIn-person and zoom. \nJoin Zoom Meeting\nhttps://kshomeless.zoom.us/j/82821626657?pwd=bUS7daIlrXUqMQ0Fnd593309G6NiBV.1 \nMeeting ID: 859 7021 3961\nPasscode: 833136 \nIn-Person Quarterly Location: \nCatholic Charities of Southwest Kansas \n804 N 2nd \nDodge City\, KS \n 
URL:https://kshomeless.com/event/sw-regional-meeting-2/2029-09-11/
CATEGORIES:Regional Planning
ORGANIZER;CN="Kayla Knier":MAILTO:kknier@kshomeless.com
END:VEVENT
BEGIN:VEVENT
DTSTART;TZID=America/Chicago:20291009T100000
DTEND;TZID=America/Chicago:20291009T110000
DTSTAMP:20260421T043507
CREATED:20241119T223311Z
LAST-MODIFIED:20251209T172025Z
UID:10007589-1886234400-1886238000@kshomeless.com
SUMMARY:Southwest Regional Planning Meeting
DESCRIPTION:SW Regional Planning Meeting. Meets monthly on the second Tuesday at 10am followed by the CES meeting at 11am. \nIn-person and zoom. \nJoin Zoom Meeting\nhttps://kshomeless.zoom.us/j/82821626657?pwd=bUS7daIlrXUqMQ0Fnd593309G6NiBV.1 \nMeeting ID: 859 7021 3961\nPasscode: 833136 \nIn-Person Quarterly Location: \nCatholic Charities of Southwest Kansas \n804 N 2nd \nDodge City\, KS \n 
URL:https://kshomeless.com/event/sw-regional-meeting-2/2029-10-09/
CATEGORIES:Regional Planning
ORGANIZER;CN="Kayla Knier":MAILTO:kknier@kshomeless.com
END:VEVENT
BEGIN:VEVENT
DTSTART;TZID=America/Chicago:20291113T100000
DTEND;TZID=America/Chicago:20291113T110000
DTSTAMP:20260421T043507
CREATED:20241119T223311Z
LAST-MODIFIED:20251209T172025Z
UID:10007590-1889258400-1889262000@kshomeless.com
SUMMARY:Southwest Regional Planning Meeting
DESCRIPTION:SW Regional Planning Meeting. Meets monthly on the second Tuesday at 10am followed by the CES meeting at 11am. \nIn-person and zoom. \nJoin Zoom Meeting\nhttps://kshomeless.zoom.us/j/82821626657?pwd=bUS7daIlrXUqMQ0Fnd593309G6NiBV.1 \nMeeting ID: 859 7021 3961\nPasscode: 833136 \nIn-Person Quarterly Location: \nCatholic Charities of Southwest Kansas \n804 N 2nd \nDodge City\, KS \n 
URL:https://kshomeless.com/event/sw-regional-meeting-2/2029-11-13/
CATEGORIES:Regional Planning
ORGANIZER;CN="Kayla Knier":MAILTO:kknier@kshomeless.com
END:VEVENT
BEGIN:VEVENT
DTSTART;TZID=America/Chicago:20291211T100000
DTEND;TZID=America/Chicago:20291211T110000
DTSTAMP:20260421T043507
CREATED:20241119T223311Z
LAST-MODIFIED:20251209T172025Z
UID:10007591-1891677600-1891681200@kshomeless.com
SUMMARY:Southwest Regional Planning Meeting
DESCRIPTION:SW Regional Planning Meeting. Meets monthly on the second Tuesday at 10am followed by the CES meeting at 11am. \nIn-person and zoom. \nJoin Zoom Meeting\nhttps://kshomeless.zoom.us/j/82821626657?pwd=bUS7daIlrXUqMQ0Fnd593309G6NiBV.1 \nMeeting ID: 859 7021 3961\nPasscode: 833136 \nIn-Person Quarterly Location: \nCatholic Charities of Southwest Kansas \n804 N 2nd \nDodge City\, KS \n 
URL:https://kshomeless.com/event/sw-regional-meeting-2/2029-12-11/
CATEGORIES:Regional Planning
ORGANIZER;CN="Kayla Knier":MAILTO:kknier@kshomeless.com
END:VEVENT
BEGIN:VEVENT
DTSTART;TZID=America/Chicago:20300108T100000
DTEND;TZID=America/Chicago:20300108T110000
DTSTAMP:20260421T043507
CREATED:20241119T223311Z
LAST-MODIFIED:20251209T172025Z
UID:10007592-1894096800-1894100400@kshomeless.com
SUMMARY:Southwest Regional Planning Meeting
DESCRIPTION:SW Regional Planning Meeting. Meets monthly on the second Tuesday at 10am followed by the CES meeting at 11am. \nIn-person and zoom. \nJoin Zoom Meeting\nhttps://kshomeless.zoom.us/j/82821626657?pwd=bUS7daIlrXUqMQ0Fnd593309G6NiBV.1 \nMeeting ID: 859 7021 3961\nPasscode: 833136 \nIn-Person Quarterly Location: \nCatholic Charities of Southwest Kansas \n804 N 2nd \nDodge City\, KS \n 
URL:https://kshomeless.com/event/sw-regional-meeting-2/2030-01-08/
CATEGORIES:Regional Planning
ORGANIZER;CN="Kayla Knier":MAILTO:kknier@kshomeless.com
END:VEVENT
BEGIN:VEVENT
DTSTART;TZID=America/Chicago:20300212T100000
DTEND;TZID=America/Chicago:20300212T110000
DTSTAMP:20260421T043507
CREATED:20241119T223311Z
LAST-MODIFIED:20251209T172025Z
UID:10007593-1897120800-1897124400@kshomeless.com
SUMMARY:Southwest Regional Planning Meeting
DESCRIPTION:SW Regional Planning Meeting. Meets monthly on the second Tuesday at 10am followed by the CES meeting at 11am. \nIn-person and zoom. \nJoin Zoom Meeting\nhttps://kshomeless.zoom.us/j/82821626657?pwd=bUS7daIlrXUqMQ0Fnd593309G6NiBV.1 \nMeeting ID: 859 7021 3961\nPasscode: 833136 \nIn-Person Quarterly Location: \nCatholic Charities of Southwest Kansas \n804 N 2nd \nDodge City\, KS \n 
URL:https://kshomeless.com/event/sw-regional-meeting-2/2030-02-12/
CATEGORIES:Regional Planning
ORGANIZER;CN="Kayla Knier":MAILTO:kknier@kshomeless.com
END:VEVENT
BEGIN:VEVENT
DTSTART;TZID=America/Chicago:20300312T100000
DTEND;TZID=America/Chicago:20300312T110000
DTSTAMP:20260421T043507
CREATED:20241119T223311Z
LAST-MODIFIED:20251209T172025Z
UID:10007594-1899540000-1899543600@kshomeless.com
SUMMARY:Southwest Regional Planning Meeting
DESCRIPTION:SW Regional Planning Meeting. Meets monthly on the second Tuesday at 10am followed by the CES meeting at 11am. \nIn-person and zoom. \nJoin Zoom Meeting\nhttps://kshomeless.zoom.us/j/82821626657?pwd=bUS7daIlrXUqMQ0Fnd593309G6NiBV.1 \nMeeting ID: 859 7021 3961\nPasscode: 833136 \nIn-Person Quarterly Location: \nCatholic Charities of Southwest Kansas \n804 N 2nd \nDodge City\, KS \n 
URL:https://kshomeless.com/event/sw-regional-meeting-2/2030-03-12/
CATEGORIES:Regional Planning
ORGANIZER;CN="Kayla Knier":MAILTO:kknier@kshomeless.com
END:VEVENT
BEGIN:VEVENT
DTSTART;TZID=America/Chicago:20300409T100000
DTEND;TZID=America/Chicago:20300409T110000
DTSTAMP:20260421T043507
CREATED:20241119T223311Z
LAST-MODIFIED:20251209T172025Z
UID:10007595-1901959200-1901962800@kshomeless.com
SUMMARY:Southwest Regional Planning Meeting
DESCRIPTION:SW Regional Planning Meeting. Meets monthly on the second Tuesday at 10am followed by the CES meeting at 11am. \nIn-person and zoom. \nJoin Zoom Meeting\nhttps://kshomeless.zoom.us/j/82821626657?pwd=bUS7daIlrXUqMQ0Fnd593309G6NiBV.1 \nMeeting ID: 859 7021 3961\nPasscode: 833136 \nIn-Person Quarterly Location: \nCatholic Charities of Southwest Kansas \n804 N 2nd \nDodge City\, KS \n 
URL:https://kshomeless.com/event/sw-regional-meeting-2/2030-04-09/
CATEGORIES:Regional Planning
ORGANIZER;CN="Kayla Knier":MAILTO:kknier@kshomeless.com
END:VEVENT
BEGIN:VEVENT
DTSTART;TZID=America/Chicago:20300514T100000
DTEND;TZID=America/Chicago:20300514T110000
DTSTAMP:20260421T043507
CREATED:20241119T223311Z
LAST-MODIFIED:20251209T172025Z
UID:10007596-1904983200-1904986800@kshomeless.com
SUMMARY:Southwest Regional Planning Meeting
DESCRIPTION:SW Regional Planning Meeting. Meets monthly on the second Tuesday at 10am followed by the CES meeting at 11am. \nIn-person and zoom. \nJoin Zoom Meeting\nhttps://kshomeless.zoom.us/j/82821626657?pwd=bUS7daIlrXUqMQ0Fnd593309G6NiBV.1 \nMeeting ID: 859 7021 3961\nPasscode: 833136 \nIn-Person Quarterly Location: \nCatholic Charities of Southwest Kansas \n804 N 2nd \nDodge City\, KS \n 
URL:https://kshomeless.com/event/sw-regional-meeting-2/2030-05-14/
CATEGORIES:Regional Planning
ORGANIZER;CN="Kayla Knier":MAILTO:kknier@kshomeless.com
END:VEVENT
BEGIN:VEVENT
DTSTART;TZID=America/Chicago:20300611T100000
DTEND;TZID=America/Chicago:20300611T110000
DTSTAMP:20260421T043507
CREATED:20241119T223311Z
LAST-MODIFIED:20251209T172025Z
UID:10007597-1907402400-1907406000@kshomeless.com
SUMMARY:Southwest Regional Planning Meeting
DESCRIPTION:SW Regional Planning Meeting. Meets monthly on the second Tuesday at 10am followed by the CES meeting at 11am. \nIn-person and zoom. \nJoin Zoom Meeting\nhttps://kshomeless.zoom.us/j/82821626657?pwd=bUS7daIlrXUqMQ0Fnd593309G6NiBV.1 \nMeeting ID: 859 7021 3961\nPasscode: 833136 \nIn-Person Quarterly Location: \nCatholic Charities of Southwest Kansas \n804 N 2nd \nDodge City\, KS \n 
URL:https://kshomeless.com/event/sw-regional-meeting-2/2030-06-11/
CATEGORIES:Regional Planning
ORGANIZER;CN="Kayla Knier":MAILTO:kknier@kshomeless.com
END:VEVENT
BEGIN:VEVENT
DTSTART;TZID=America/Chicago:20300709T100000
DTEND;TZID=America/Chicago:20300709T110000
DTSTAMP:20260421T043507
CREATED:20241119T223311Z
LAST-MODIFIED:20251209T172025Z
UID:10007598-1909821600-1909825200@kshomeless.com
SUMMARY:Southwest Regional Planning Meeting
DESCRIPTION:SW Regional Planning Meeting. Meets monthly on the second Tuesday at 10am followed by the CES meeting at 11am. \nIn-person and zoom. \nJoin Zoom Meeting\nhttps://kshomeless.zoom.us/j/82821626657?pwd=bUS7daIlrXUqMQ0Fnd593309G6NiBV.1 \nMeeting ID: 859 7021 3961\nPasscode: 833136 \nIn-Person Quarterly Location: \nCatholic Charities of Southwest Kansas \n804 N 2nd \nDodge City\, KS \n 
URL:https://kshomeless.com/event/sw-regional-meeting-2/2030-07-09/
CATEGORIES:Regional Planning
ORGANIZER;CN="Kayla Knier":MAILTO:kknier@kshomeless.com
END:VEVENT
BEGIN:VEVENT
DTSTART;TZID=America/Chicago:20300813T100000
DTEND;TZID=America/Chicago:20300813T110000
DTSTAMP:20260421T043507
CREATED:20241119T223311Z
LAST-MODIFIED:20251209T172025Z
UID:10007599-1912845600-1912849200@kshomeless.com
SUMMARY:Southwest Regional Planning Meeting
DESCRIPTION:SW Regional Planning Meeting. Meets monthly on the second Tuesday at 10am followed by the CES meeting at 11am. \nIn-person and zoom. \nJoin Zoom Meeting\nhttps://kshomeless.zoom.us/j/82821626657?pwd=bUS7daIlrXUqMQ0Fnd593309G6NiBV.1 \nMeeting ID: 859 7021 3961\nPasscode: 833136 \nIn-Person Quarterly Location: \nCatholic Charities of Southwest Kansas \n804 N 2nd \nDodge City\, KS \n 
URL:https://kshomeless.com/event/sw-regional-meeting-2/2030-08-13/
CATEGORIES:Regional Planning
ORGANIZER;CN="Kayla Knier":MAILTO:kknier@kshomeless.com
END:VEVENT
BEGIN:VEVENT
DTSTART;TZID=America/Chicago:20300910T100000
DTEND;TZID=America/Chicago:20300910T110000
DTSTAMP:20260421T043507
CREATED:20241119T223311Z
LAST-MODIFIED:20251209T172025Z
UID:10007600-1915264800-1915268400@kshomeless.com
SUMMARY:Southwest Regional Planning Meeting
DESCRIPTION:SW Regional Planning Meeting. Meets monthly on the second Tuesday at 10am followed by the CES meeting at 11am. \nIn-person and zoom. \nJoin Zoom Meeting\nhttps://kshomeless.zoom.us/j/82821626657?pwd=bUS7daIlrXUqMQ0Fnd593309G6NiBV.1 \nMeeting ID: 859 7021 3961\nPasscode: 833136 \nIn-Person Quarterly Location: \nCatholic Charities of Southwest Kansas \n804 N 2nd \nDodge City\, KS \n 
URL:https://kshomeless.com/event/sw-regional-meeting-2/2030-09-10/
CATEGORIES:Regional Planning
ORGANIZER;CN="Kayla Knier":MAILTO:kknier@kshomeless.com
END:VEVENT
BEGIN:VEVENT
DTSTART;TZID=America/Chicago:20301008T100000
DTEND;TZID=America/Chicago:20301008T110000
DTSTAMP:20260421T043507
CREATED:20241119T223311Z
LAST-MODIFIED:20251209T172025Z
UID:10007601-1917684000-1917687600@kshomeless.com
SUMMARY:Southwest Regional Planning Meeting
DESCRIPTION:SW Regional Planning Meeting. Meets monthly on the second Tuesday at 10am followed by the CES meeting at 11am. \nIn-person and zoom. \nJoin Zoom Meeting\nhttps://kshomeless.zoom.us/j/82821626657?pwd=bUS7daIlrXUqMQ0Fnd593309G6NiBV.1 \nMeeting ID: 859 7021 3961\nPasscode: 833136 \nIn-Person Quarterly Location: \nCatholic Charities of Southwest Kansas \n804 N 2nd \nDodge City\, KS \n 
URL:https://kshomeless.com/event/sw-regional-meeting-2/2030-10-08/
CATEGORIES:Regional Planning
ORGANIZER;CN="Kayla Knier":MAILTO:kknier@kshomeless.com
END:VEVENT
BEGIN:VEVENT
DTSTART;TZID=America/Chicago:20301112T100000
DTEND;TZID=America/Chicago:20301112T110000
DTSTAMP:20260421T043507
CREATED:20241119T223311Z
LAST-MODIFIED:20251209T172025Z
UID:10007602-1920708000-1920711600@kshomeless.com
SUMMARY:Southwest Regional Planning Meeting
DESCRIPTION:SW Regional Planning Meeting. Meets monthly on the second Tuesday at 10am followed by the CES meeting at 11am. \nIn-person and zoom. \nJoin Zoom Meeting\nhttps://kshomeless.zoom.us/j/82821626657?pwd=bUS7daIlrXUqMQ0Fnd593309G6NiBV.1 \nMeeting ID: 859 7021 3961\nPasscode: 833136 \nIn-Person Quarterly Location: \nCatholic Charities of Southwest Kansas \n804 N 2nd \nDodge City\, KS \n 
URL:https://kshomeless.com/event/sw-regional-meeting-2/2030-11-12/
CATEGORIES:Regional Planning
ORGANIZER;CN="Kayla Knier":MAILTO:kknier@kshomeless.com
END:VEVENT
END:VCALENDAR