BEGIN:VCALENDAR
VERSION:2.0
PRODID:-//Kansas Statewide Homeless Coalition - ECPv6.15.14//NONSGML v1.0//EN
CALSCALE:GREGORIAN
METHOD:PUBLISH
X-ORIGINAL-URL:https://kshomeless.com
X-WR-CALDESC:Events for Kansas Statewide Homeless Coalition
REFRESH-INTERVAL;VALUE=DURATION:PT1H
X-Robots-Tag:noindex
X-PUBLISHED-TTL:PT1H
BEGIN:VTIMEZONE
TZID:America/Chicago
BEGIN:DAYLIGHT
TZOFFSETFROM:-0600
TZOFFSETTO:-0500
TZNAME:CDT
DTSTART:20250309T080000
END:DAYLIGHT
BEGIN:STANDARD
TZOFFSETFROM:-0500
TZOFFSETTO:-0600
TZNAME:CST
DTSTART:20251102T070000
END:STANDARD
BEGIN:DAYLIGHT
TZOFFSETFROM:-0600
TZOFFSETTO:-0500
TZNAME:CDT
DTSTART:20260308T080000
END:DAYLIGHT
BEGIN:STANDARD
TZOFFSETFROM:-0500
TZOFFSETTO:-0600
TZNAME:CST
DTSTART:20261101T070000
END:STANDARD
BEGIN:DAYLIGHT
TZOFFSETFROM:-0600
TZOFFSETTO:-0500
TZNAME:CDT
DTSTART:20270314T080000
END:DAYLIGHT
BEGIN:STANDARD
TZOFFSETFROM:-0500
TZOFFSETTO:-0600
TZNAME:CST
DTSTART:20271107T070000
END:STANDARD
BEGIN:DAYLIGHT
TZOFFSETFROM:-0600
TZOFFSETTO:-0500
TZNAME:CDT
DTSTART:20280312T080000
END:DAYLIGHT
BEGIN:STANDARD
TZOFFSETFROM:-0500
TZOFFSETTO:-0600
TZNAME:CST
DTSTART:20281105T070000
END:STANDARD
BEGIN:DAYLIGHT
TZOFFSETFROM:-0600
TZOFFSETTO:-0500
TZNAME:CDT
DTSTART:20290311T080000
END:DAYLIGHT
BEGIN:STANDARD
TZOFFSETFROM:-0500
TZOFFSETTO:-0600
TZNAME:CST
DTSTART:20291104T070000
END:STANDARD
END:VTIMEZONE
BEGIN:VEVENT
DTSTART;TZID=America/Chicago:20260512T100000
DTEND;TZID=America/Chicago:20260512T110000
DTSTAMP:20260421T054912
CREATED:20241119T223311Z
LAST-MODIFIED:20251209T172025Z
UID:10007548-1778580000-1778583600@kshomeless.com
SUMMARY:Southwest Regional Planning Meeting
DESCRIPTION:SW Regional Planning Meeting. Meets monthly on the second Tuesday at 10am followed by the CES meeting at 11am. \nIn-person and zoom. \nJoin Zoom Meeting\nhttps://kshomeless.zoom.us/j/82821626657?pwd=bUS7daIlrXUqMQ0Fnd593309G6NiBV.1 \nMeeting ID: 859 7021 3961\nPasscode: 833136 \nIn-Person Quarterly Location: \nCatholic Charities of Southwest Kansas \n804 N 2nd \nDodge City\, KS \n 
URL:https://kshomeless.com/event/sw-regional-meeting-2/2026-05-12/
CATEGORIES:Regional Planning
ORGANIZER;CN="Kayla Knier":MAILTO:kknier@kshomeless.com
END:VEVENT
BEGIN:VEVENT
DTSTART;TZID=America/Chicago:20260609T100000
DTEND;TZID=America/Chicago:20260609T110000
DTSTAMP:20260421T054912
CREATED:20241119T223311Z
LAST-MODIFIED:20251209T172025Z
UID:10007549-1780999200-1781002800@kshomeless.com
SUMMARY:Southwest Regional Planning Meeting
DESCRIPTION:SW Regional Planning Meeting. Meets monthly on the second Tuesday at 10am followed by the CES meeting at 11am. \nIn-person and zoom. \nJoin Zoom Meeting\nhttps://kshomeless.zoom.us/j/82821626657?pwd=bUS7daIlrXUqMQ0Fnd593309G6NiBV.1 \nMeeting ID: 859 7021 3961\nPasscode: 833136 \nIn-Person Quarterly Location: \nCatholic Charities of Southwest Kansas \n804 N 2nd \nDodge City\, KS \n 
URL:https://kshomeless.com/event/sw-regional-meeting-2/2026-06-09/
CATEGORIES:Regional Planning
ORGANIZER;CN="Kayla Knier":MAILTO:kknier@kshomeless.com
END:VEVENT
BEGIN:VEVENT
DTSTART;TZID=America/Chicago:20260714T100000
DTEND;TZID=America/Chicago:20260714T110000
DTSTAMP:20260421T054912
CREATED:20241119T223311Z
LAST-MODIFIED:20251209T172025Z
UID:10007550-1784023200-1784026800@kshomeless.com
SUMMARY:Southwest Regional Planning Meeting
DESCRIPTION:SW Regional Planning Meeting. Meets monthly on the second Tuesday at 10am followed by the CES meeting at 11am. \nIn-person and zoom. \nJoin Zoom Meeting\nhttps://kshomeless.zoom.us/j/82821626657?pwd=bUS7daIlrXUqMQ0Fnd593309G6NiBV.1 \nMeeting ID: 859 7021 3961\nPasscode: 833136 \nIn-Person Quarterly Location: \nCatholic Charities of Southwest Kansas \n804 N 2nd \nDodge City\, KS \n 
URL:https://kshomeless.com/event/sw-regional-meeting-2/2026-07-14/
CATEGORIES:Regional Planning
ORGANIZER;CN="Kayla Knier":MAILTO:kknier@kshomeless.com
END:VEVENT
BEGIN:VEVENT
DTSTART;TZID=America/Chicago:20260811T100000
DTEND;TZID=America/Chicago:20260811T110000
DTSTAMP:20260421T054912
CREATED:20241119T223311Z
LAST-MODIFIED:20251209T172025Z
UID:10007551-1786442400-1786446000@kshomeless.com
SUMMARY:Southwest Regional Planning Meeting
DESCRIPTION:SW Regional Planning Meeting. Meets monthly on the second Tuesday at 10am followed by the CES meeting at 11am. \nIn-person and zoom. \nJoin Zoom Meeting\nhttps://kshomeless.zoom.us/j/82821626657?pwd=bUS7daIlrXUqMQ0Fnd593309G6NiBV.1 \nMeeting ID: 859 7021 3961\nPasscode: 833136 \nIn-Person Quarterly Location: \nCatholic Charities of Southwest Kansas \n804 N 2nd \nDodge City\, KS \n 
URL:https://kshomeless.com/event/sw-regional-meeting-2/2026-08-11/
CATEGORIES:Regional Planning
ORGANIZER;CN="Kayla Knier":MAILTO:kknier@kshomeless.com
END:VEVENT
BEGIN:VEVENT
DTSTART;TZID=America/Chicago:20260908T100000
DTEND;TZID=America/Chicago:20260908T110000
DTSTAMP:20260421T054912
CREATED:20241119T223311Z
LAST-MODIFIED:20251209T172025Z
UID:10007552-1788861600-1788865200@kshomeless.com
SUMMARY:Southwest Regional Planning Meeting
DESCRIPTION:SW Regional Planning Meeting. Meets monthly on the second Tuesday at 10am followed by the CES meeting at 11am. \nIn-person and zoom. \nJoin Zoom Meeting\nhttps://kshomeless.zoom.us/j/82821626657?pwd=bUS7daIlrXUqMQ0Fnd593309G6NiBV.1 \nMeeting ID: 859 7021 3961\nPasscode: 833136 \nIn-Person Quarterly Location: \nCatholic Charities of Southwest Kansas \n804 N 2nd \nDodge City\, KS \n 
URL:https://kshomeless.com/event/sw-regional-meeting-2/2026-09-08/
CATEGORIES:Regional Planning
ORGANIZER;CN="Kayla Knier":MAILTO:kknier@kshomeless.com
END:VEVENT
BEGIN:VEVENT
DTSTART;TZID=America/Chicago:20261013T100000
DTEND;TZID=America/Chicago:20261013T110000
DTSTAMP:20260421T054912
CREATED:20241119T223311Z
LAST-MODIFIED:20251209T172025Z
UID:10007553-1791885600-1791889200@kshomeless.com
SUMMARY:Southwest Regional Planning Meeting
DESCRIPTION:SW Regional Planning Meeting. Meets monthly on the second Tuesday at 10am followed by the CES meeting at 11am. \nIn-person and zoom. \nJoin Zoom Meeting\nhttps://kshomeless.zoom.us/j/82821626657?pwd=bUS7daIlrXUqMQ0Fnd593309G6NiBV.1 \nMeeting ID: 859 7021 3961\nPasscode: 833136 \nIn-Person Quarterly Location: \nCatholic Charities of Southwest Kansas \n804 N 2nd \nDodge City\, KS \n 
URL:https://kshomeless.com/event/sw-regional-meeting-2/2026-10-13/
CATEGORIES:Regional Planning
ORGANIZER;CN="Kayla Knier":MAILTO:kknier@kshomeless.com
END:VEVENT
BEGIN:VEVENT
DTSTART;TZID=America/Chicago:20261110T100000
DTEND;TZID=America/Chicago:20261110T110000
DTSTAMP:20260421T054912
CREATED:20241119T223311Z
LAST-MODIFIED:20251209T172025Z
UID:10007554-1794304800-1794308400@kshomeless.com
SUMMARY:Southwest Regional Planning Meeting
DESCRIPTION:SW Regional Planning Meeting. Meets monthly on the second Tuesday at 10am followed by the CES meeting at 11am. \nIn-person and zoom. \nJoin Zoom Meeting\nhttps://kshomeless.zoom.us/j/82821626657?pwd=bUS7daIlrXUqMQ0Fnd593309G6NiBV.1 \nMeeting ID: 859 7021 3961\nPasscode: 833136 \nIn-Person Quarterly Location: \nCatholic Charities of Southwest Kansas \n804 N 2nd \nDodge City\, KS \n 
URL:https://kshomeless.com/event/sw-regional-meeting-2/2026-11-10/
CATEGORIES:Regional Planning
ORGANIZER;CN="Kayla Knier":MAILTO:kknier@kshomeless.com
END:VEVENT
BEGIN:VEVENT
DTSTART;TZID=America/Chicago:20261208T100000
DTEND;TZID=America/Chicago:20261208T110000
DTSTAMP:20260421T054912
CREATED:20241119T223311Z
LAST-MODIFIED:20251209T172025Z
UID:10007555-1796724000-1796727600@kshomeless.com
SUMMARY:Southwest Regional Planning Meeting
DESCRIPTION:SW Regional Planning Meeting. Meets monthly on the second Tuesday at 10am followed by the CES meeting at 11am. \nIn-person and zoom. \nJoin Zoom Meeting\nhttps://kshomeless.zoom.us/j/82821626657?pwd=bUS7daIlrXUqMQ0Fnd593309G6NiBV.1 \nMeeting ID: 859 7021 3961\nPasscode: 833136 \nIn-Person Quarterly Location: \nCatholic Charities of Southwest Kansas \n804 N 2nd \nDodge City\, KS \n 
URL:https://kshomeless.com/event/sw-regional-meeting-2/2026-12-08/
CATEGORIES:Regional Planning
ORGANIZER;CN="Kayla Knier":MAILTO:kknier@kshomeless.com
END:VEVENT
BEGIN:VEVENT
DTSTART;TZID=America/Chicago:20270112T100000
DTEND;TZID=America/Chicago:20270112T110000
DTSTAMP:20260421T054912
CREATED:20241119T223311Z
LAST-MODIFIED:20251209T172025Z
UID:10007556-1799748000-1799751600@kshomeless.com
SUMMARY:Southwest Regional Planning Meeting
DESCRIPTION:SW Regional Planning Meeting. Meets monthly on the second Tuesday at 10am followed by the CES meeting at 11am. \nIn-person and zoom. \nJoin Zoom Meeting\nhttps://kshomeless.zoom.us/j/82821626657?pwd=bUS7daIlrXUqMQ0Fnd593309G6NiBV.1 \nMeeting ID: 859 7021 3961\nPasscode: 833136 \nIn-Person Quarterly Location: \nCatholic Charities of Southwest Kansas \n804 N 2nd \nDodge City\, KS \n 
URL:https://kshomeless.com/event/sw-regional-meeting-2/2027-01-12/
CATEGORIES:Regional Planning
ORGANIZER;CN="Kayla Knier":MAILTO:kknier@kshomeless.com
END:VEVENT
BEGIN:VEVENT
DTSTART;TZID=America/Chicago:20270209T100000
DTEND;TZID=America/Chicago:20270209T110000
DTSTAMP:20260421T054912
CREATED:20241119T223311Z
LAST-MODIFIED:20251209T172025Z
UID:10007557-1802167200-1802170800@kshomeless.com
SUMMARY:Southwest Regional Planning Meeting
DESCRIPTION:SW Regional Planning Meeting. Meets monthly on the second Tuesday at 10am followed by the CES meeting at 11am. \nIn-person and zoom. \nJoin Zoom Meeting\nhttps://kshomeless.zoom.us/j/82821626657?pwd=bUS7daIlrXUqMQ0Fnd593309G6NiBV.1 \nMeeting ID: 859 7021 3961\nPasscode: 833136 \nIn-Person Quarterly Location: \nCatholic Charities of Southwest Kansas \n804 N 2nd \nDodge City\, KS \n 
URL:https://kshomeless.com/event/sw-regional-meeting-2/2027-02-09/
CATEGORIES:Regional Planning
ORGANIZER;CN="Kayla Knier":MAILTO:kknier@kshomeless.com
END:VEVENT
BEGIN:VEVENT
DTSTART;TZID=America/Chicago:20270309T100000
DTEND;TZID=America/Chicago:20270309T110000
DTSTAMP:20260421T054912
CREATED:20241119T223311Z
LAST-MODIFIED:20251209T172025Z
UID:10007558-1804586400-1804590000@kshomeless.com
SUMMARY:Southwest Regional Planning Meeting
DESCRIPTION:SW Regional Planning Meeting. Meets monthly on the second Tuesday at 10am followed by the CES meeting at 11am. \nIn-person and zoom. \nJoin Zoom Meeting\nhttps://kshomeless.zoom.us/j/82821626657?pwd=bUS7daIlrXUqMQ0Fnd593309G6NiBV.1 \nMeeting ID: 859 7021 3961\nPasscode: 833136 \nIn-Person Quarterly Location: \nCatholic Charities of Southwest Kansas \n804 N 2nd \nDodge City\, KS \n 
URL:https://kshomeless.com/event/sw-regional-meeting-2/2027-03-09/
CATEGORIES:Regional Planning
ORGANIZER;CN="Kayla Knier":MAILTO:kknier@kshomeless.com
END:VEVENT
BEGIN:VEVENT
DTSTART;TZID=America/Chicago:20270413T100000
DTEND;TZID=America/Chicago:20270413T110000
DTSTAMP:20260421T054912
CREATED:20241119T223311Z
LAST-MODIFIED:20251209T172025Z
UID:10007559-1807610400-1807614000@kshomeless.com
SUMMARY:Southwest Regional Planning Meeting
DESCRIPTION:SW Regional Planning Meeting. Meets monthly on the second Tuesday at 10am followed by the CES meeting at 11am. \nIn-person and zoom. \nJoin Zoom Meeting\nhttps://kshomeless.zoom.us/j/82821626657?pwd=bUS7daIlrXUqMQ0Fnd593309G6NiBV.1 \nMeeting ID: 859 7021 3961\nPasscode: 833136 \nIn-Person Quarterly Location: \nCatholic Charities of Southwest Kansas \n804 N 2nd \nDodge City\, KS \n 
URL:https://kshomeless.com/event/sw-regional-meeting-2/2027-04-13/
CATEGORIES:Regional Planning
ORGANIZER;CN="Kayla Knier":MAILTO:kknier@kshomeless.com
END:VEVENT
BEGIN:VEVENT
DTSTART;TZID=America/Chicago:20270511T100000
DTEND;TZID=America/Chicago:20270511T110000
DTSTAMP:20260421T054912
CREATED:20241119T223311Z
LAST-MODIFIED:20251209T172025Z
UID:10007560-1810029600-1810033200@kshomeless.com
SUMMARY:Southwest Regional Planning Meeting
DESCRIPTION:SW Regional Planning Meeting. Meets monthly on the second Tuesday at 10am followed by the CES meeting at 11am. \nIn-person and zoom. \nJoin Zoom Meeting\nhttps://kshomeless.zoom.us/j/82821626657?pwd=bUS7daIlrXUqMQ0Fnd593309G6NiBV.1 \nMeeting ID: 859 7021 3961\nPasscode: 833136 \nIn-Person Quarterly Location: \nCatholic Charities of Southwest Kansas \n804 N 2nd \nDodge City\, KS \n 
URL:https://kshomeless.com/event/sw-regional-meeting-2/2027-05-11/
CATEGORIES:Regional Planning
ORGANIZER;CN="Kayla Knier":MAILTO:kknier@kshomeless.com
END:VEVENT
BEGIN:VEVENT
DTSTART;TZID=America/Chicago:20270608T100000
DTEND;TZID=America/Chicago:20270608T110000
DTSTAMP:20260421T054912
CREATED:20241119T223311Z
LAST-MODIFIED:20251209T172025Z
UID:10007561-1812448800-1812452400@kshomeless.com
SUMMARY:Southwest Regional Planning Meeting
DESCRIPTION:SW Regional Planning Meeting. Meets monthly on the second Tuesday at 10am followed by the CES meeting at 11am. \nIn-person and zoom. \nJoin Zoom Meeting\nhttps://kshomeless.zoom.us/j/82821626657?pwd=bUS7daIlrXUqMQ0Fnd593309G6NiBV.1 \nMeeting ID: 859 7021 3961\nPasscode: 833136 \nIn-Person Quarterly Location: \nCatholic Charities of Southwest Kansas \n804 N 2nd \nDodge City\, KS \n 
URL:https://kshomeless.com/event/sw-regional-meeting-2/2027-06-08/
CATEGORIES:Regional Planning
ORGANIZER;CN="Kayla Knier":MAILTO:kknier@kshomeless.com
END:VEVENT
BEGIN:VEVENT
DTSTART;TZID=America/Chicago:20270713T100000
DTEND;TZID=America/Chicago:20270713T110000
DTSTAMP:20260421T054912
CREATED:20241119T223311Z
LAST-MODIFIED:20251209T172025Z
UID:10007562-1815472800-1815476400@kshomeless.com
SUMMARY:Southwest Regional Planning Meeting
DESCRIPTION:SW Regional Planning Meeting. Meets monthly on the second Tuesday at 10am followed by the CES meeting at 11am. \nIn-person and zoom. \nJoin Zoom Meeting\nhttps://kshomeless.zoom.us/j/82821626657?pwd=bUS7daIlrXUqMQ0Fnd593309G6NiBV.1 \nMeeting ID: 859 7021 3961\nPasscode: 833136 \nIn-Person Quarterly Location: \nCatholic Charities of Southwest Kansas \n804 N 2nd \nDodge City\, KS \n 
URL:https://kshomeless.com/event/sw-regional-meeting-2/2027-07-13/
CATEGORIES:Regional Planning
ORGANIZER;CN="Kayla Knier":MAILTO:kknier@kshomeless.com
END:VEVENT
BEGIN:VEVENT
DTSTART;TZID=America/Chicago:20270810T100000
DTEND;TZID=America/Chicago:20270810T110000
DTSTAMP:20260421T054912
CREATED:20241119T223311Z
LAST-MODIFIED:20251209T172025Z
UID:10007563-1817892000-1817895600@kshomeless.com
SUMMARY:Southwest Regional Planning Meeting
DESCRIPTION:SW Regional Planning Meeting. Meets monthly on the second Tuesday at 10am followed by the CES meeting at 11am. \nIn-person and zoom. \nJoin Zoom Meeting\nhttps://kshomeless.zoom.us/j/82821626657?pwd=bUS7daIlrXUqMQ0Fnd593309G6NiBV.1 \nMeeting ID: 859 7021 3961\nPasscode: 833136 \nIn-Person Quarterly Location: \nCatholic Charities of Southwest Kansas \n804 N 2nd \nDodge City\, KS \n 
URL:https://kshomeless.com/event/sw-regional-meeting-2/2027-08-10/
CATEGORIES:Regional Planning
ORGANIZER;CN="Kayla Knier":MAILTO:kknier@kshomeless.com
END:VEVENT
BEGIN:VEVENT
DTSTART;TZID=America/Chicago:20270914T100000
DTEND;TZID=America/Chicago:20270914T110000
DTSTAMP:20260421T054912
CREATED:20241119T223311Z
LAST-MODIFIED:20251209T172025Z
UID:10007564-1820916000-1820919600@kshomeless.com
SUMMARY:Southwest Regional Planning Meeting
DESCRIPTION:SW Regional Planning Meeting. Meets monthly on the second Tuesday at 10am followed by the CES meeting at 11am. \nIn-person and zoom. \nJoin Zoom Meeting\nhttps://kshomeless.zoom.us/j/82821626657?pwd=bUS7daIlrXUqMQ0Fnd593309G6NiBV.1 \nMeeting ID: 859 7021 3961\nPasscode: 833136 \nIn-Person Quarterly Location: \nCatholic Charities of Southwest Kansas \n804 N 2nd \nDodge City\, KS \n 
URL:https://kshomeless.com/event/sw-regional-meeting-2/2027-09-14/
CATEGORIES:Regional Planning
ORGANIZER;CN="Kayla Knier":MAILTO:kknier@kshomeless.com
END:VEVENT
BEGIN:VEVENT
DTSTART;TZID=America/Chicago:20271012T100000
DTEND;TZID=America/Chicago:20271012T110000
DTSTAMP:20260421T054912
CREATED:20241119T223311Z
LAST-MODIFIED:20251209T172025Z
UID:10007565-1823335200-1823338800@kshomeless.com
SUMMARY:Southwest Regional Planning Meeting
DESCRIPTION:SW Regional Planning Meeting. Meets monthly on the second Tuesday at 10am followed by the CES meeting at 11am. \nIn-person and zoom. \nJoin Zoom Meeting\nhttps://kshomeless.zoom.us/j/82821626657?pwd=bUS7daIlrXUqMQ0Fnd593309G6NiBV.1 \nMeeting ID: 859 7021 3961\nPasscode: 833136 \nIn-Person Quarterly Location: \nCatholic Charities of Southwest Kansas \n804 N 2nd \nDodge City\, KS \n 
URL:https://kshomeless.com/event/sw-regional-meeting-2/2027-10-12/
CATEGORIES:Regional Planning
ORGANIZER;CN="Kayla Knier":MAILTO:kknier@kshomeless.com
END:VEVENT
BEGIN:VEVENT
DTSTART;TZID=America/Chicago:20271109T100000
DTEND;TZID=America/Chicago:20271109T110000
DTSTAMP:20260421T054912
CREATED:20241119T223311Z
LAST-MODIFIED:20251209T172025Z
UID:10007566-1825754400-1825758000@kshomeless.com
SUMMARY:Southwest Regional Planning Meeting
DESCRIPTION:SW Regional Planning Meeting. Meets monthly on the second Tuesday at 10am followed by the CES meeting at 11am. \nIn-person and zoom. \nJoin Zoom Meeting\nhttps://kshomeless.zoom.us/j/82821626657?pwd=bUS7daIlrXUqMQ0Fnd593309G6NiBV.1 \nMeeting ID: 859 7021 3961\nPasscode: 833136 \nIn-Person Quarterly Location: \nCatholic Charities of Southwest Kansas \n804 N 2nd \nDodge City\, KS \n 
URL:https://kshomeless.com/event/sw-regional-meeting-2/2027-11-09/
CATEGORIES:Regional Planning
ORGANIZER;CN="Kayla Knier":MAILTO:kknier@kshomeless.com
END:VEVENT
BEGIN:VEVENT
DTSTART;TZID=America/Chicago:20271214T100000
DTEND;TZID=America/Chicago:20271214T110000
DTSTAMP:20260421T054912
CREATED:20241119T223311Z
LAST-MODIFIED:20251209T172025Z
UID:10007567-1828778400-1828782000@kshomeless.com
SUMMARY:Southwest Regional Planning Meeting
DESCRIPTION:SW Regional Planning Meeting. Meets monthly on the second Tuesday at 10am followed by the CES meeting at 11am. \nIn-person and zoom. \nJoin Zoom Meeting\nhttps://kshomeless.zoom.us/j/82821626657?pwd=bUS7daIlrXUqMQ0Fnd593309G6NiBV.1 \nMeeting ID: 859 7021 3961\nPasscode: 833136 \nIn-Person Quarterly Location: \nCatholic Charities of Southwest Kansas \n804 N 2nd \nDodge City\, KS \n 
URL:https://kshomeless.com/event/sw-regional-meeting-2/2027-12-14/
CATEGORIES:Regional Planning
ORGANIZER;CN="Kayla Knier":MAILTO:kknier@kshomeless.com
END:VEVENT
BEGIN:VEVENT
DTSTART;TZID=America/Chicago:20280111T100000
DTEND;TZID=America/Chicago:20280111T110000
DTSTAMP:20260421T054912
CREATED:20241119T223311Z
LAST-MODIFIED:20251209T172025Z
UID:10007568-1831197600-1831201200@kshomeless.com
SUMMARY:Southwest Regional Planning Meeting
DESCRIPTION:SW Regional Planning Meeting. Meets monthly on the second Tuesday at 10am followed by the CES meeting at 11am. \nIn-person and zoom. \nJoin Zoom Meeting\nhttps://kshomeless.zoom.us/j/82821626657?pwd=bUS7daIlrXUqMQ0Fnd593309G6NiBV.1 \nMeeting ID: 859 7021 3961\nPasscode: 833136 \nIn-Person Quarterly Location: \nCatholic Charities of Southwest Kansas \n804 N 2nd \nDodge City\, KS \n 
URL:https://kshomeless.com/event/sw-regional-meeting-2/2028-01-11/
CATEGORIES:Regional Planning
ORGANIZER;CN="Kayla Knier":MAILTO:kknier@kshomeless.com
END:VEVENT
BEGIN:VEVENT
DTSTART;TZID=America/Chicago:20280208T100000
DTEND;TZID=America/Chicago:20280208T110000
DTSTAMP:20260421T054912
CREATED:20241119T223311Z
LAST-MODIFIED:20251209T172025Z
UID:10007569-1833616800-1833620400@kshomeless.com
SUMMARY:Southwest Regional Planning Meeting
DESCRIPTION:SW Regional Planning Meeting. Meets monthly on the second Tuesday at 10am followed by the CES meeting at 11am. \nIn-person and zoom. \nJoin Zoom Meeting\nhttps://kshomeless.zoom.us/j/82821626657?pwd=bUS7daIlrXUqMQ0Fnd593309G6NiBV.1 \nMeeting ID: 859 7021 3961\nPasscode: 833136 \nIn-Person Quarterly Location: \nCatholic Charities of Southwest Kansas \n804 N 2nd \nDodge City\, KS \n 
URL:https://kshomeless.com/event/sw-regional-meeting-2/2028-02-08/
CATEGORIES:Regional Planning
ORGANIZER;CN="Kayla Knier":MAILTO:kknier@kshomeless.com
END:VEVENT
BEGIN:VEVENT
DTSTART;TZID=America/Chicago:20280314T100000
DTEND;TZID=America/Chicago:20280314T110000
DTSTAMP:20260421T054912
CREATED:20241119T223311Z
LAST-MODIFIED:20251209T172025Z
UID:10007570-1836640800-1836644400@kshomeless.com
SUMMARY:Southwest Regional Planning Meeting
DESCRIPTION:SW Regional Planning Meeting. Meets monthly on the second Tuesday at 10am followed by the CES meeting at 11am. \nIn-person and zoom. \nJoin Zoom Meeting\nhttps://kshomeless.zoom.us/j/82821626657?pwd=bUS7daIlrXUqMQ0Fnd593309G6NiBV.1 \nMeeting ID: 859 7021 3961\nPasscode: 833136 \nIn-Person Quarterly Location: \nCatholic Charities of Southwest Kansas \n804 N 2nd \nDodge City\, KS \n 
URL:https://kshomeless.com/event/sw-regional-meeting-2/2028-03-14/
CATEGORIES:Regional Planning
ORGANIZER;CN="Kayla Knier":MAILTO:kknier@kshomeless.com
END:VEVENT
BEGIN:VEVENT
DTSTART;TZID=America/Chicago:20280411T100000
DTEND;TZID=America/Chicago:20280411T110000
DTSTAMP:20260421T054912
CREATED:20241119T223311Z
LAST-MODIFIED:20251209T172025Z
UID:10007571-1839060000-1839063600@kshomeless.com
SUMMARY:Southwest Regional Planning Meeting
DESCRIPTION:SW Regional Planning Meeting. Meets monthly on the second Tuesday at 10am followed by the CES meeting at 11am. \nIn-person and zoom. \nJoin Zoom Meeting\nhttps://kshomeless.zoom.us/j/82821626657?pwd=bUS7daIlrXUqMQ0Fnd593309G6NiBV.1 \nMeeting ID: 859 7021 3961\nPasscode: 833136 \nIn-Person Quarterly Location: \nCatholic Charities of Southwest Kansas \n804 N 2nd \nDodge City\, KS \n 
URL:https://kshomeless.com/event/sw-regional-meeting-2/2028-04-11/
CATEGORIES:Regional Planning
ORGANIZER;CN="Kayla Knier":MAILTO:kknier@kshomeless.com
END:VEVENT
BEGIN:VEVENT
DTSTART;TZID=America/Chicago:20280509T100000
DTEND;TZID=America/Chicago:20280509T110000
DTSTAMP:20260421T054912
CREATED:20241119T223311Z
LAST-MODIFIED:20251209T172025Z
UID:10007572-1841479200-1841482800@kshomeless.com
SUMMARY:Southwest Regional Planning Meeting
DESCRIPTION:SW Regional Planning Meeting. Meets monthly on the second Tuesday at 10am followed by the CES meeting at 11am. \nIn-person and zoom. \nJoin Zoom Meeting\nhttps://kshomeless.zoom.us/j/82821626657?pwd=bUS7daIlrXUqMQ0Fnd593309G6NiBV.1 \nMeeting ID: 859 7021 3961\nPasscode: 833136 \nIn-Person Quarterly Location: \nCatholic Charities of Southwest Kansas \n804 N 2nd \nDodge City\, KS \n 
URL:https://kshomeless.com/event/sw-regional-meeting-2/2028-05-09/
CATEGORIES:Regional Planning
ORGANIZER;CN="Kayla Knier":MAILTO:kknier@kshomeless.com
END:VEVENT
BEGIN:VEVENT
DTSTART;TZID=America/Chicago:20280613T100000
DTEND;TZID=America/Chicago:20280613T110000
DTSTAMP:20260421T054912
CREATED:20241119T223311Z
LAST-MODIFIED:20251209T172025Z
UID:10007573-1844503200-1844506800@kshomeless.com
SUMMARY:Southwest Regional Planning Meeting
DESCRIPTION:SW Regional Planning Meeting. Meets monthly on the second Tuesday at 10am followed by the CES meeting at 11am. \nIn-person and zoom. \nJoin Zoom Meeting\nhttps://kshomeless.zoom.us/j/82821626657?pwd=bUS7daIlrXUqMQ0Fnd593309G6NiBV.1 \nMeeting ID: 859 7021 3961\nPasscode: 833136 \nIn-Person Quarterly Location: \nCatholic Charities of Southwest Kansas \n804 N 2nd \nDodge City\, KS \n 
URL:https://kshomeless.com/event/sw-regional-meeting-2/2028-06-13/
CATEGORIES:Regional Planning
ORGANIZER;CN="Kayla Knier":MAILTO:kknier@kshomeless.com
END:VEVENT
BEGIN:VEVENT
DTSTART;TZID=America/Chicago:20280711T100000
DTEND;TZID=America/Chicago:20280711T110000
DTSTAMP:20260421T054912
CREATED:20241119T223311Z
LAST-MODIFIED:20251209T172025Z
UID:10007574-1846922400-1846926000@kshomeless.com
SUMMARY:Southwest Regional Planning Meeting
DESCRIPTION:SW Regional Planning Meeting. Meets monthly on the second Tuesday at 10am followed by the CES meeting at 11am. \nIn-person and zoom. \nJoin Zoom Meeting\nhttps://kshomeless.zoom.us/j/82821626657?pwd=bUS7daIlrXUqMQ0Fnd593309G6NiBV.1 \nMeeting ID: 859 7021 3961\nPasscode: 833136 \nIn-Person Quarterly Location: \nCatholic Charities of Southwest Kansas \n804 N 2nd \nDodge City\, KS \n 
URL:https://kshomeless.com/event/sw-regional-meeting-2/2028-07-11/
CATEGORIES:Regional Planning
ORGANIZER;CN="Kayla Knier":MAILTO:kknier@kshomeless.com
END:VEVENT
BEGIN:VEVENT
DTSTART;TZID=America/Chicago:20280808T100000
DTEND;TZID=America/Chicago:20280808T110000
DTSTAMP:20260421T054912
CREATED:20241119T223311Z
LAST-MODIFIED:20251209T172025Z
UID:10007575-1849341600-1849345200@kshomeless.com
SUMMARY:Southwest Regional Planning Meeting
DESCRIPTION:SW Regional Planning Meeting. Meets monthly on the second Tuesday at 10am followed by the CES meeting at 11am. \nIn-person and zoom. \nJoin Zoom Meeting\nhttps://kshomeless.zoom.us/j/82821626657?pwd=bUS7daIlrXUqMQ0Fnd593309G6NiBV.1 \nMeeting ID: 859 7021 3961\nPasscode: 833136 \nIn-Person Quarterly Location: \nCatholic Charities of Southwest Kansas \n804 N 2nd \nDodge City\, KS \n 
URL:https://kshomeless.com/event/sw-regional-meeting-2/2028-08-08/
CATEGORIES:Regional Planning
ORGANIZER;CN="Kayla Knier":MAILTO:kknier@kshomeless.com
END:VEVENT
BEGIN:VEVENT
DTSTART;TZID=America/Chicago:20280912T100000
DTEND;TZID=America/Chicago:20280912T110000
DTSTAMP:20260421T054912
CREATED:20241119T223311Z
LAST-MODIFIED:20251209T172025Z
UID:10007576-1852365600-1852369200@kshomeless.com
SUMMARY:Southwest Regional Planning Meeting
DESCRIPTION:SW Regional Planning Meeting. Meets monthly on the second Tuesday at 10am followed by the CES meeting at 11am. \nIn-person and zoom. \nJoin Zoom Meeting\nhttps://kshomeless.zoom.us/j/82821626657?pwd=bUS7daIlrXUqMQ0Fnd593309G6NiBV.1 \nMeeting ID: 859 7021 3961\nPasscode: 833136 \nIn-Person Quarterly Location: \nCatholic Charities of Southwest Kansas \n804 N 2nd \nDodge City\, KS \n 
URL:https://kshomeless.com/event/sw-regional-meeting-2/2028-09-12/
CATEGORIES:Regional Planning
ORGANIZER;CN="Kayla Knier":MAILTO:kknier@kshomeless.com
END:VEVENT
BEGIN:VEVENT
DTSTART;TZID=America/Chicago:20281010T100000
DTEND;TZID=America/Chicago:20281010T110000
DTSTAMP:20260421T054912
CREATED:20241119T223311Z
LAST-MODIFIED:20251209T172025Z
UID:10007577-1854784800-1854788400@kshomeless.com
SUMMARY:Southwest Regional Planning Meeting
DESCRIPTION:SW Regional Planning Meeting. Meets monthly on the second Tuesday at 10am followed by the CES meeting at 11am. \nIn-person and zoom. \nJoin Zoom Meeting\nhttps://kshomeless.zoom.us/j/82821626657?pwd=bUS7daIlrXUqMQ0Fnd593309G6NiBV.1 \nMeeting ID: 859 7021 3961\nPasscode: 833136 \nIn-Person Quarterly Location: \nCatholic Charities of Southwest Kansas \n804 N 2nd \nDodge City\, KS \n 
URL:https://kshomeless.com/event/sw-regional-meeting-2/2028-10-10/
CATEGORIES:Regional Planning
ORGANIZER;CN="Kayla Knier":MAILTO:kknier@kshomeless.com
END:VEVENT
END:VCALENDAR