BEGIN:VCALENDAR
VERSION:2.0
PRODID:-//Kansas Statewide Homeless Coalition - ECPv6.15.14//NONSGML v1.0//EN
CALSCALE:GREGORIAN
METHOD:PUBLISH
X-WR-CALNAME:Kansas Statewide Homeless Coalition
X-ORIGINAL-URL:https://kshomeless.com
X-WR-CALDESC:Events for Kansas Statewide Homeless Coalition
REFRESH-INTERVAL;VALUE=DURATION:PT1H
X-Robots-Tag:noindex
X-PUBLISHED-TTL:PT1H
BEGIN:VTIMEZONE
TZID:America/Chicago
BEGIN:DAYLIGHT
TZOFFSETFROM:-0600
TZOFFSETTO:-0500
TZNAME:CDT
DTSTART:20230312T080000
END:DAYLIGHT
BEGIN:STANDARD
TZOFFSETFROM:-0500
TZOFFSETTO:-0600
TZNAME:CST
DTSTART:20231105T070000
END:STANDARD
BEGIN:DAYLIGHT
TZOFFSETFROM:-0600
TZOFFSETTO:-0500
TZNAME:CDT
DTSTART:20240310T080000
END:DAYLIGHT
BEGIN:STANDARD
TZOFFSETFROM:-0500
TZOFFSETTO:-0600
TZNAME:CST
DTSTART:20241103T070000
END:STANDARD
BEGIN:DAYLIGHT
TZOFFSETFROM:-0600
TZOFFSETTO:-0500
TZNAME:CDT
DTSTART:20250309T080000
END:DAYLIGHT
BEGIN:STANDARD
TZOFFSETFROM:-0500
TZOFFSETTO:-0600
TZNAME:CST
DTSTART:20251102T070000
END:STANDARD
BEGIN:DAYLIGHT
TZOFFSETFROM:-0600
TZOFFSETTO:-0500
TZNAME:CDT
DTSTART:20260308T080000
END:DAYLIGHT
BEGIN:STANDARD
TZOFFSETFROM:-0500
TZOFFSETTO:-0600
TZNAME:CST
DTSTART:20261101T070000
END:STANDARD
BEGIN:DAYLIGHT
TZOFFSETFROM:-0600
TZOFFSETTO:-0500
TZNAME:CDT
DTSTART:20270314T080000
END:DAYLIGHT
BEGIN:STANDARD
TZOFFSETFROM:-0500
TZOFFSETTO:-0600
TZNAME:CST
DTSTART:20271107T070000
END:STANDARD
END:VTIMEZONE
BEGIN:VEVENT
DTSTART;TZID=America/Chicago:20260414T100000
DTEND;TZID=America/Chicago:20260414T110000
DTSTAMP:20260421T072054
CREATED:20241119T223311Z
LAST-MODIFIED:20251209T172025Z
UID:10007547-1776160800-1776164400@kshomeless.com
SUMMARY:Southwest Regional Planning Meeting
DESCRIPTION:SW Regional Planning Meeting. Meets monthly on the second Tuesday at 10am followed by the CES meeting at 11am. \nIn-person and zoom. \nJoin Zoom Meeting\nhttps://kshomeless.zoom.us/j/82821626657?pwd=bUS7daIlrXUqMQ0Fnd593309G6NiBV.1 \nMeeting ID: 859 7021 3961\nPasscode: 833136 \nIn-Person Quarterly Location: \nCatholic Charities of Southwest Kansas \n804 N 2nd \nDodge City\, KS \n 
URL:https://kshomeless.com/event/sw-regional-meeting-2/2026-04-14/
CATEGORIES:Regional Planning
ORGANIZER;CN="Kayla Knier":MAILTO:kknier@kshomeless.com
END:VEVENT
BEGIN:VEVENT
DTSTART;TZID=America/Chicago:20260310T100000
DTEND;TZID=America/Chicago:20260310T110000
DTSTAMP:20260421T072054
CREATED:20241119T223311Z
LAST-MODIFIED:20251209T172025Z
UID:10007546-1773136800-1773140400@kshomeless.com
SUMMARY:Southwest Regional Planning Meeting
DESCRIPTION:SW Regional Planning Meeting. Meets monthly on the second Tuesday at 10am followed by the CES meeting at 11am. \nIn-person and zoom. \nJoin Zoom Meeting\nhttps://kshomeless.zoom.us/j/82821626657?pwd=bUS7daIlrXUqMQ0Fnd593309G6NiBV.1 \nMeeting ID: 859 7021 3961\nPasscode: 833136 \nIn-Person Quarterly Location: \nCatholic Charities of Southwest Kansas \n804 N 2nd \nDodge City\, KS \n 
URL:https://kshomeless.com/event/sw-regional-meeting-2/2026-03-10/
CATEGORIES:Regional Planning
ORGANIZER;CN="Kayla Knier":MAILTO:kknier@kshomeless.com
END:VEVENT
BEGIN:VEVENT
DTSTART;TZID=America/Chicago:20260210T100000
DTEND;TZID=America/Chicago:20260210T110000
DTSTAMP:20260421T072054
CREATED:20241119T223311Z
LAST-MODIFIED:20251209T172025Z
UID:10007545-1770717600-1770721200@kshomeless.com
SUMMARY:Southwest Regional Planning Meeting
DESCRIPTION:SW Regional Planning Meeting. Meets monthly on the second Tuesday at 10am followed by the CES meeting at 11am. \nIn-person and zoom. \nJoin Zoom Meeting\nhttps://kshomeless.zoom.us/j/82821626657?pwd=bUS7daIlrXUqMQ0Fnd593309G6NiBV.1 \nMeeting ID: 859 7021 3961\nPasscode: 833136 \nIn-Person Quarterly Location: \nCatholic Charities of Southwest Kansas \n804 N 2nd \nDodge City\, KS \n 
URL:https://kshomeless.com/event/sw-regional-meeting-2/2026-02-10/
CATEGORIES:Regional Planning
ORGANIZER;CN="Kayla Knier":MAILTO:kknier@kshomeless.com
END:VEVENT
BEGIN:VEVENT
DTSTART;TZID=America/Chicago:20260113T100000
DTEND;TZID=America/Chicago:20260113T110000
DTSTAMP:20260421T072054
CREATED:20241119T223311Z
LAST-MODIFIED:20251209T172025Z
UID:10007544-1768298400-1768302000@kshomeless.com
SUMMARY:Southwest Regional Planning Meeting
DESCRIPTION:SW Regional Planning Meeting. Meets monthly on the second Tuesday at 10am followed by the CES meeting at 11am. \nIn-person and zoom. \nJoin Zoom Meeting\nhttps://kshomeless.zoom.us/j/82821626657?pwd=bUS7daIlrXUqMQ0Fnd593309G6NiBV.1 \nMeeting ID: 859 7021 3961\nPasscode: 833136 \nIn-Person Quarterly Location: \nCatholic Charities of Southwest Kansas \n804 N 2nd \nDodge City\, KS \n 
URL:https://kshomeless.com/event/sw-regional-meeting-2/2026-01-13/
CATEGORIES:Regional Planning
ORGANIZER;CN="Kayla Knier":MAILTO:kknier@kshomeless.com
END:VEVENT
BEGIN:VEVENT
DTSTART;TZID=America/Chicago:20251209T100000
DTEND;TZID=America/Chicago:20251209T110000
DTSTAMP:20260421T072054
CREATED:20241119T223311Z
LAST-MODIFIED:20251209T172025Z
UID:10003510-1765274400-1765278000@kshomeless.com
SUMMARY:Southwest Regional Planning Meeting
DESCRIPTION:SW Regional Planning Meeting. Meets monthly on the second Tuesday at 10am followed by the CES meeting at 11am. \nIn-person and zoom. \nJoin Zoom Meeting\nhttps://kshomeless.zoom.us/j/82821626657?pwd=bUS7daIlrXUqMQ0Fnd593309G6NiBV.1 \nMeeting ID: 859 7021 3961\nPasscode: 833136 \nIn-Person Quarterly Location: \nCatholic Charities of Southwest Kansas \n804 N 2nd \nDodge City\, KS \n 
URL:https://kshomeless.com/event/sw-regional-meeting-2/2025-12-09/
CATEGORIES:Regional Planning
ORGANIZER;CN="Kayla Knier":MAILTO:kknier@kshomeless.com
END:VEVENT
BEGIN:VEVENT
DTSTART;TZID=America/Chicago:20251111T100000
DTEND;TZID=America/Chicago:20251111T110000
DTSTAMP:20260421T072054
CREATED:20241119T223311Z
LAST-MODIFIED:20251209T172025Z
UID:10007543-1762855200-1762858800@kshomeless.com
SUMMARY:Southwest Regional Planning Meeting
DESCRIPTION:SW Regional Planning Meeting. Meets monthly on the second Tuesday at 10am followed by the CES meeting at 11am. \nIn-person and zoom. \nJoin Zoom Meeting\nhttps://kshomeless.zoom.us/j/82821626657?pwd=bUS7daIlrXUqMQ0Fnd593309G6NiBV.1 \nMeeting ID: 859 7021 3961\nPasscode: 833136 \nIn-Person Quarterly Location: \nCatholic Charities of Southwest Kansas \n804 N 2nd \nDodge City\, KS \n 
URL:https://kshomeless.com/event/sw-regional-meeting-2/2025-11-11/
CATEGORIES:Regional Planning
ORGANIZER;CN="Kayla Knier":MAILTO:kknier@kshomeless.com
END:VEVENT
BEGIN:VEVENT
DTSTART;TZID=America/Chicago:20251014T100000
DTEND;TZID=America/Chicago:20251014T110000
DTSTAMP:20260421T072054
CREATED:20241119T223311Z
LAST-MODIFIED:20251209T172025Z
UID:10007542-1760436000-1760439600@kshomeless.com
SUMMARY:Southwest Regional Planning Meeting
DESCRIPTION:SW Regional Planning Meeting. Meets monthly on the second Tuesday at 10am followed by the CES meeting at 11am. \nIn-person and zoom. \nJoin Zoom Meeting\nhttps://kshomeless.zoom.us/j/82821626657?pwd=bUS7daIlrXUqMQ0Fnd593309G6NiBV.1 \nMeeting ID: 859 7021 3961\nPasscode: 833136 \nIn-Person Quarterly Location: \nCatholic Charities of Southwest Kansas \n804 N 2nd \nDodge City\, KS \n 
URL:https://kshomeless.com/event/sw-regional-meeting-2/2025-10-14/
CATEGORIES:Regional Planning
ORGANIZER;CN="Kayla Knier":MAILTO:kknier@kshomeless.com
END:VEVENT
BEGIN:VEVENT
DTSTART;TZID=America/Chicago:20250909T100000
DTEND;TZID=America/Chicago:20250909T110000
DTSTAMP:20260421T072054
CREATED:20241119T223311Z
LAST-MODIFIED:20251209T172025Z
UID:10003509-1757412000-1757415600@kshomeless.com
SUMMARY:Southwest Regional Planning Meeting
DESCRIPTION:SW Regional Planning Meeting. Meets monthly on the second Tuesday at 10am followed by the CES meeting at 11am. \nIn-person and zoom. \nJoin Zoom Meeting\nhttps://kshomeless.zoom.us/j/82821626657?pwd=bUS7daIlrXUqMQ0Fnd593309G6NiBV.1 \nMeeting ID: 859 7021 3961\nPasscode: 833136 \nIn-Person Quarterly Location: \nCatholic Charities of Southwest Kansas \n804 N 2nd \nDodge City\, KS \n 
URL:https://kshomeless.com/event/sw-regional-meeting-2/2025-09-09/
CATEGORIES:Regional Planning
ORGANIZER;CN="Kayla Knier":MAILTO:kknier@kshomeless.com
END:VEVENT
BEGIN:VEVENT
DTSTART;TZID=America/Chicago:20250812T100000
DTEND;TZID=America/Chicago:20250812T110000
DTSTAMP:20260421T072054
CREATED:20241119T223311Z
LAST-MODIFIED:20251209T172025Z
UID:10007541-1754992800-1754996400@kshomeless.com
SUMMARY:Southwest Regional Planning Meeting
DESCRIPTION:SW Regional Planning Meeting. Meets monthly on the second Tuesday at 10am followed by the CES meeting at 11am. \nIn-person and zoom. \nJoin Zoom Meeting\nhttps://kshomeless.zoom.us/j/82821626657?pwd=bUS7daIlrXUqMQ0Fnd593309G6NiBV.1 \nMeeting ID: 859 7021 3961\nPasscode: 833136 \nIn-Person Quarterly Location: \nCatholic Charities of Southwest Kansas \n804 N 2nd \nDodge City\, KS \n 
URL:https://kshomeless.com/event/sw-regional-meeting-2/2025-08-12/
CATEGORIES:Regional Planning
ORGANIZER;CN="Kayla Knier":MAILTO:kknier@kshomeless.com
END:VEVENT
BEGIN:VEVENT
DTSTART;TZID=America/Chicago:20250708T100000
DTEND;TZID=America/Chicago:20250708T110000
DTSTAMP:20260421T072054
CREATED:20241119T223311Z
LAST-MODIFIED:20251209T172025Z
UID:10007540-1751968800-1751972400@kshomeless.com
SUMMARY:Southwest Regional Planning Meeting
DESCRIPTION:SW Regional Planning Meeting. Meets monthly on the second Tuesday at 10am followed by the CES meeting at 11am. \nIn-person and zoom. \nJoin Zoom Meeting\nhttps://kshomeless.zoom.us/j/82821626657?pwd=bUS7daIlrXUqMQ0Fnd593309G6NiBV.1 \nMeeting ID: 859 7021 3961\nPasscode: 833136 \nIn-Person Quarterly Location: \nCatholic Charities of Southwest Kansas \n804 N 2nd \nDodge City\, KS \n 
URL:https://kshomeless.com/event/sw-regional-meeting-2/2025-07-08/
CATEGORIES:Regional Planning
ORGANIZER;CN="Kayla Knier":MAILTO:kknier@kshomeless.com
END:VEVENT
BEGIN:VEVENT
DTSTART;TZID=America/Chicago:20250610T100000
DTEND;TZID=America/Chicago:20250610T110000
DTSTAMP:20260421T072054
CREATED:20241119T223311Z
LAST-MODIFIED:20251209T172025Z
UID:10003508-1749549600-1749553200@kshomeless.com
SUMMARY:Southwest Regional Planning Meeting
DESCRIPTION:SW Regional Planning Meeting. Meets monthly on the second Tuesday at 10am followed by the CES meeting at 11am. \nIn-person and zoom. \nJoin Zoom Meeting\nhttps://kshomeless.zoom.us/j/82821626657?pwd=bUS7daIlrXUqMQ0Fnd593309G6NiBV.1 \nMeeting ID: 859 7021 3961\nPasscode: 833136 \nIn-Person Quarterly Location: \nCatholic Charities of Southwest Kansas \n804 N 2nd \nDodge City\, KS \n 
URL:https://kshomeless.com/event/sw-regional-meeting-2/2025-06-10/
CATEGORIES:Regional Planning
ORGANIZER;CN="Kayla Knier":MAILTO:kknier@kshomeless.com
END:VEVENT
BEGIN:VEVENT
DTSTART;TZID=America/Chicago:20250513T100000
DTEND;TZID=America/Chicago:20250513T110000
DTSTAMP:20260421T072054
CREATED:20241119T223311Z
LAST-MODIFIED:20251209T172025Z
UID:10007539-1747130400-1747134000@kshomeless.com
SUMMARY:Southwest Regional Planning Meeting
DESCRIPTION:SW Regional Planning Meeting. Meets monthly on the second Tuesday at 10am followed by the CES meeting at 11am. \nIn-person and zoom. \nJoin Zoom Meeting\nhttps://kshomeless.zoom.us/j/82821626657?pwd=bUS7daIlrXUqMQ0Fnd593309G6NiBV.1 \nMeeting ID: 859 7021 3961\nPasscode: 833136 \nIn-Person Quarterly Location: \nCatholic Charities of Southwest Kansas \n804 N 2nd \nDodge City\, KS \n 
URL:https://kshomeless.com/event/sw-regional-meeting-2/2025-05-13/
CATEGORIES:Regional Planning
ORGANIZER;CN="Kayla Knier":MAILTO:kknier@kshomeless.com
END:VEVENT
BEGIN:VEVENT
DTSTART;TZID=America/Chicago:20250408T100000
DTEND;TZID=America/Chicago:20250408T110000
DTSTAMP:20260421T072054
CREATED:20241119T223311Z
LAST-MODIFIED:20251209T172025Z
UID:10007538-1744106400-1744110000@kshomeless.com
SUMMARY:Southwest Regional Planning Meeting
DESCRIPTION:SW Regional Planning Meeting. Meets monthly on the second Tuesday at 10am followed by the CES meeting at 11am. \nIn-person and zoom. \nJoin Zoom Meeting\nhttps://kshomeless.zoom.us/j/82821626657?pwd=bUS7daIlrXUqMQ0Fnd593309G6NiBV.1 \nMeeting ID: 859 7021 3961\nPasscode: 833136 \nIn-Person Quarterly Location: \nCatholic Charities of Southwest Kansas \n804 N 2nd \nDodge City\, KS \n 
URL:https://kshomeless.com/event/sw-regional-meeting-2/2025-04-08/
CATEGORIES:Regional Planning
ORGANIZER;CN="Kayla Knier":MAILTO:kknier@kshomeless.com
END:VEVENT
BEGIN:VEVENT
DTSTART;TZID=America/Chicago:20250311T100000
DTEND;TZID=America/Chicago:20250311T110000
DTSTAMP:20260421T072054
CREATED:20241119T223311Z
LAST-MODIFIED:20251209T172025Z
UID:10003507-1741687200-1741690800@kshomeless.com
SUMMARY:Southwest Regional Planning Meeting
DESCRIPTION:SW Regional Planning Meeting. Meets monthly on the second Tuesday at 10am followed by the CES meeting at 11am. \nIn-person and zoom. \nJoin Zoom Meeting\nhttps://kshomeless.zoom.us/j/82821626657?pwd=bUS7daIlrXUqMQ0Fnd593309G6NiBV.1 \nMeeting ID: 859 7021 3961\nPasscode: 833136 \nIn-Person Quarterly Location: \nCatholic Charities of Southwest Kansas \n804 N 2nd \nDodge City\, KS \n 
URL:https://kshomeless.com/event/sw-regional-meeting-2/2025-03-11/
CATEGORIES:Regional Planning
ORGANIZER;CN="Kayla Knier":MAILTO:kknier@kshomeless.com
END:VEVENT
BEGIN:VEVENT
DTSTART;TZID=America/Chicago:20250211T100000
DTEND;TZID=America/Chicago:20250211T110000
DTSTAMP:20260421T072054
CREATED:20241119T223311Z
LAST-MODIFIED:20251209T172025Z
UID:10007537-1739268000-1739271600@kshomeless.com
SUMMARY:Southwest Regional Planning Meeting
DESCRIPTION:SW Regional Planning Meeting. Meets monthly on the second Tuesday at 10am followed by the CES meeting at 11am. \nIn-person and zoom. \nJoin Zoom Meeting\nhttps://kshomeless.zoom.us/j/82821626657?pwd=bUS7daIlrXUqMQ0Fnd593309G6NiBV.1 \nMeeting ID: 859 7021 3961\nPasscode: 833136 \nIn-Person Quarterly Location: \nCatholic Charities of Southwest Kansas \n804 N 2nd \nDodge City\, KS \n 
URL:https://kshomeless.com/event/sw-regional-meeting-2/2025-02-11/
CATEGORIES:Regional Planning
ORGANIZER;CN="Kayla Knier":MAILTO:kknier@kshomeless.com
END:VEVENT
BEGIN:VEVENT
DTSTART;TZID=America/Chicago:20250114T100000
DTEND;TZID=America/Chicago:20250114T110000
DTSTAMP:20260421T072054
CREATED:20241119T223311Z
LAST-MODIFIED:20251209T172025Z
UID:10007536-1736848800-1736852400@kshomeless.com
SUMMARY:Southwest Regional Planning Meeting
DESCRIPTION:SW Regional Planning Meeting. Meets monthly on the second Tuesday at 10am followed by the CES meeting at 11am. \nIn-person and zoom. \nJoin Zoom Meeting\nhttps://kshomeless.zoom.us/j/82821626657?pwd=bUS7daIlrXUqMQ0Fnd593309G6NiBV.1 \nMeeting ID: 859 7021 3961\nPasscode: 833136 \nIn-Person Quarterly Location: \nCatholic Charities of Southwest Kansas \n804 N 2nd \nDodge City\, KS \n 
URL:https://kshomeless.com/event/sw-regional-meeting-2/2025-01-14/
CATEGORIES:Regional Planning
ORGANIZER;CN="Kayla Knier":MAILTO:kknier@kshomeless.com
END:VEVENT
BEGIN:VEVENT
DTSTART;TZID=America/Chicago:20241210T100000
DTEND;TZID=America/Chicago:20241210T110000
DTSTAMP:20260421T072054
CREATED:20241119T223311Z
LAST-MODIFIED:20251209T172025Z
UID:10003506-1733824800-1733828400@kshomeless.com
SUMMARY:Southwest Regional Planning Meeting
DESCRIPTION:SW Regional Planning Meeting. Meets monthly on the second Tuesday at 10am followed by the CES meeting at 11am. \nIn-person and zoom. \nJoin Zoom Meeting\nhttps://kshomeless.zoom.us/j/82821626657?pwd=bUS7daIlrXUqMQ0Fnd593309G6NiBV.1 \nMeeting ID: 859 7021 3961\nPasscode: 833136 \nIn-Person Quarterly Location: \nCatholic Charities of Southwest Kansas \n804 N 2nd \nDodge City\, KS \n 
URL:https://kshomeless.com/event/sw-regional-meeting-2/2024-12-10/
CATEGORIES:Regional Planning
ORGANIZER;CN="Kayla Knier":MAILTO:kknier@kshomeless.com
END:VEVENT
END:VCALENDAR