BEGIN:VCALENDAR
VERSION:2.0
PRODID:-//Kansas Statewide Homeless Coalition - ECPv6.15.14//NONSGML v1.0//EN
CALSCALE:GREGORIAN
METHOD:PUBLISH
X-WR-CALNAME:Kansas Statewide Homeless Coalition
X-ORIGINAL-URL:https://kshomeless.com
X-WR-CALDESC:Events for Kansas Statewide Homeless Coalition
REFRESH-INTERVAL;VALUE=DURATION:PT1H
X-Robots-Tag:noindex
X-PUBLISHED-TTL:PT1H
BEGIN:VTIMEZONE
TZID:America/Chicago
BEGIN:DAYLIGHT
TZOFFSETFROM:-0600
TZOFFSETTO:-0500
TZNAME:CDT
DTSTART:20240310T080000
END:DAYLIGHT
BEGIN:STANDARD
TZOFFSETFROM:-0500
TZOFFSETTO:-0600
TZNAME:CST
DTSTART:20241103T070000
END:STANDARD
BEGIN:DAYLIGHT
TZOFFSETFROM:-0600
TZOFFSETTO:-0500
TZNAME:CDT
DTSTART:20250309T080000
END:DAYLIGHT
BEGIN:STANDARD
TZOFFSETFROM:-0500
TZOFFSETTO:-0600
TZNAME:CST
DTSTART:20251102T070000
END:STANDARD
BEGIN:DAYLIGHT
TZOFFSETFROM:-0600
TZOFFSETTO:-0500
TZNAME:CDT
DTSTART:20260308T080000
END:DAYLIGHT
BEGIN:STANDARD
TZOFFSETFROM:-0500
TZOFFSETTO:-0600
TZNAME:CST
DTSTART:20261101T070000
END:STANDARD
END:VTIMEZONE
BEGIN:VEVENT
DTSTART;TZID=America/Chicago:20251008T130000
DTEND;TZID=America/Chicago:20251008T140000
DTSTAMP:20260422T170716
CREATED:20251007T155215Z
LAST-MODIFIED:20251007T160329Z
UID:14401-1759928400-1759932000@kshomeless.com
SUMMARY:Special HMIS End User Committee Meeting
DESCRIPTION:Attending this meeting will count towards the CES Committee participation credits as the newly published data changes will affect CES Enrollments and CES Assessments. Please attend to provide your CES insights. \nJoin Zoom Meetinghttps://kshomeless.zoom.us/j/88655267416?pwd=7jq0DEdsOBBdZYegm6Ya24UJ7i0nUR.1 \nMeeting ID: 886 5526 7416Passcode: 168591 \n— \nOne tap mobile+13462487799\,\,88655267416# US (Houston)+16694449171\,\,88655267416# US \nJoin instructionshttps://kshomeless.zoom.us/meetings/88655267416/invitations?signature=drbr_OJ81PcN0VyK0UaQ7n_tEzubveYjOUD1Qy82OHM \n 
URL:https://kshomeless.com/event/special-hmis-end-user-committee-meeting/
ORGANIZER;CN="Westin Shehi":MAILTO:wshehi@kshomeless.com
END:VEVENT
END:VCALENDAR