BEGIN:VCALENDAR
VERSION:2.0
PRODID:-//Kansas Statewide Homeless Coalition - ECPv6.15.14//NONSGML v1.0//EN
CALSCALE:GREGORIAN
METHOD:PUBLISH
X-WR-CALNAME:Kansas Statewide Homeless Coalition
X-ORIGINAL-URL:https://kshomeless.com
X-WR-CALDESC:Events for Kansas Statewide Homeless Coalition
REFRESH-INTERVAL;VALUE=DURATION:PT1H
X-Robots-Tag:noindex
X-PUBLISHED-TTL:PT1H
BEGIN:VTIMEZONE
TZID:America/Chicago
BEGIN:DAYLIGHT
TZOFFSETFROM:-0600
TZOFFSETTO:-0500
TZNAME:CDT
DTSTART:20240310T080000
END:DAYLIGHT
BEGIN:STANDARD
TZOFFSETFROM:-0500
TZOFFSETTO:-0600
TZNAME:CST
DTSTART:20241103T070000
END:STANDARD
BEGIN:DAYLIGHT
TZOFFSETFROM:-0600
TZOFFSETTO:-0500
TZNAME:CDT
DTSTART:20250309T080000
END:DAYLIGHT
BEGIN:STANDARD
TZOFFSETFROM:-0500
TZOFFSETTO:-0600
TZNAME:CST
DTSTART:20251102T070000
END:STANDARD
BEGIN:DAYLIGHT
TZOFFSETFROM:-0600
TZOFFSETTO:-0500
TZNAME:CDT
DTSTART:20260308T080000
END:DAYLIGHT
BEGIN:STANDARD
TZOFFSETFROM:-0500
TZOFFSETTO:-0600
TZNAME:CST
DTSTART:20261101T070000
END:STANDARD
END:VTIMEZONE
BEGIN:VEVENT
DTSTART;TZID=America/Chicago:20250115T120000
DTEND;TZID=America/Chicago:20250115T130000
DTSTAMP:20260422T170835
CREATED:20241114T021822Z
LAST-MODIFIED:20250219T232928Z
UID:10005503-1736942400-1736946000@kshomeless.com
SUMMARY:Outreach Workgroup Meeting
DESCRIPTION:The Outreach Workgroup meets on a bi-monthly basis (the fourth Wednesday of every other month from 12pm to 1pm\, unless holidays require rescheduling). \nZoom link: Outreach Workgroup Committee Zoom Meeting- Launch \n  \nFor questions/concerns\, please contact hmis@kshomeless.com  \nPlease scroll to the bottom of this page and click the “Add to Calendar” button to connect the recurring event to your calendar. \n 
URL:https://kshomeless.com/event/outreach-workgroup-meeting-2/2025-01-15/
CATEGORIES:Outreach Workgroup
ORGANIZER;CN="Westin Shehi":MAILTO:wshehi@kshomeless.com
END:VEVENT
END:VCALENDAR