BEGIN:VCALENDAR
VERSION:2.0
PRODID:-//Kansas Statewide Homeless Coalition - ECPv6.15.14//NONSGML v1.0//EN
CALSCALE:GREGORIAN
METHOD:PUBLISH
X-WR-CALNAME:Kansas Statewide Homeless Coalition
X-ORIGINAL-URL:https://kshomeless.com
X-WR-CALDESC:Events for Kansas Statewide Homeless Coalition
REFRESH-INTERVAL;VALUE=DURATION:PT1H
X-Robots-Tag:noindex
X-PUBLISHED-TTL:PT1H
BEGIN:VTIMEZONE
TZID:America/Chicago
BEGIN:DAYLIGHT
TZOFFSETFROM:-0600
TZOFFSETTO:-0500
TZNAME:CDT
DTSTART:20240310T080000
END:DAYLIGHT
BEGIN:STANDARD
TZOFFSETFROM:-0500
TZOFFSETTO:-0600
TZNAME:CST
DTSTART:20241103T070000
END:STANDARD
BEGIN:DAYLIGHT
TZOFFSETFROM:-0600
TZOFFSETTO:-0500
TZNAME:CDT
DTSTART:20250309T080000
END:DAYLIGHT
BEGIN:STANDARD
TZOFFSETFROM:-0500
TZOFFSETTO:-0600
TZNAME:CST
DTSTART:20251102T070000
END:STANDARD
BEGIN:DAYLIGHT
TZOFFSETFROM:-0600
TZOFFSETTO:-0500
TZNAME:CDT
DTSTART:20260308T080000
END:DAYLIGHT
BEGIN:STANDARD
TZOFFSETFROM:-0500
TZOFFSETTO:-0600
TZNAME:CST
DTSTART:20261101T070000
END:STANDARD
END:VTIMEZONE
BEGIN:VEVENT
DTSTART;TZID=America/Chicago:20250530T140000
DTEND;TZID=America/Chicago:20250530T153000
DTSTAMP:20260419T081929
CREATED:20250528T180716Z
LAST-MODIFIED:20250528T180716Z
UID:13452-1748613600-1748619000@kshomeless.com
SUMMARY:CoC Builds Training
DESCRIPTION:Topic: CoC Builds NOFO Training\nTime: May 30\, 2025 02:00 PM Central Time (US and Canada)\nJoin Zoom Meeting\nhttps://kshomeless.zoom.us/j/81818435222 \nMeeting ID: 818 1843 5222 \n— \nOne tap mobile\n+17193594580\,\,81818435222# US\n+17207072699\,\,81818435222# US (Denver) \n— \nDial by your location\n• +1 719 359 4580 US\n• +1 720 707 2699 US (Denver)\n• +1 253 205 0468 US\n• +1 253 215 8782 US (Tacoma)\n• +1 346 248 7799 US (Houston)\n• +1 669 444 9171 US\n• +1 360 209 5623 US\n• +1 386 347 5053 US\n• +1 507 473 4847 US\n• +1 564 217 2000 US\n• +1 646 558 8656 US (New York)\n• +1 646 931 3860 US\n• +1 689 278 1000 US\n• +1 301 715 8592 US (Washington DC)\n• +1 305 224 1968 US\n• +1 309 205 3325 US\n• +1 312 626 6799 US (Chicago)\n• 877 853 5247 US Toll-free\n• 888 788 0099 US Toll-free\n• 833 548 0276 US Toll-free\n• 833 548 0282 US Toll-free \nMeeting ID: 818 1843 5222 \nFind your local number: https://kshomeless.zoom.us/u/kcH8pV16Xg \n 
URL:https://kshomeless.com/event/coc-builds-training/
END:VEVENT
END:VCALENDAR